BEGIN:VCALENDAR
VERSION:2.0
PRODID:-//ChamberMaster//Event Calendar 2.0//EN
METHOD:PUBLISH
X-PUBLISHED-TTL:P3D
REFRESH-INTERVAL:P3D
CALSCALE:GREGORIAN
BEGIN:VEVENT
DTSTART:20170610T230000Z
DTEND:20170611T010000Z
X-MICROSOFT-CDO-ALLDAYEVENT:FALSE
SUMMARY:Harrisonburg Dance Cooperative presents Split
DESCRIPTION:A DANCE SHOWCASE PERFORMANCE FOR AUDIENCES OF ALL AGES Celebrate dance and the human experience with us for our 2nd annual June Dance Showcase! HDC's 2017 mainstage show\, "Split\," explores the extremes of human experience. The dancers in each piece embody human life at its most vulnerable\, or its most vivacious."Split" will derive its energy from the variety of scenarios\, moods\, and ideas the show features. $12 a ticket - www.valleyarts.org/performances
X-ALT-DESC;FMTTYPE=text/html:A DANCE SHOWCASE PERFORMANCE FOR AUDIENCES OF ALL AGES Celebrate dance and the human experience with us for our 2nd annual June Dance Showcase! HDC&rsquo\;s 2017 mainstage show\, &ldquo\;Split\,&rdquo\; explores the extremes of human experience. The dancers in each piece embody human life at its most vulnerable\, or its most vivacious.&ldquo\;Split&rdquo\; will derive its energy from the variety of scenarios\, moods\, and ideas the show features. $12 a ticket - www.valleyarts.org/performances
LOCATION:Court Square Theatre 41 Court Square Harrisonburg VA 22801
UID:e.2338.2705
SEQUENCE:3
DTSTAMP:20260419T220708Z
URL:https://chamber.hrchamber.org/events/details/harrisonburg-dance-cooperative-presents-split-2705
END:VEVENT

END:VCALENDAR
