BEGIN:VCALENDAR
VERSION:2.0
PRODID:-//ChamberMaster//Event Calendar 2.0//EN
METHOD:PUBLISH
X-PUBLISHED-TTL:P3D
REFRESH-INTERVAL:P3D
CALSCALE:GREGORIAN
BEGIN:VEVENT
DTSTART:20180427T230000Z
DTEND:20180428T020000Z
X-MICROSOFT-CDO-ALLDAYEVENT:FALSE
SUMMARY:Harrisonburg Dance Cooperative presents "Shall We Dance" Fundraising Gala
DESCRIPTION:Join us for a delightful evening of delicacies\, drinks\, and dancing! Bid on wonderful silent auction items while enjoying food from A Bowl of Good and beer from Pale Fire Brewing. Dance the night away to music played by special guest DJ Divix from NYC. All proceeds will benefit the Harrisonburg Dance Cooperative mission of bringing dance to all! Tickets $35 in advance\, $40 at the door. Tickets may be purchased at https://www.artful.ly/store/events/14775
X-ALT-DESC;FMTTYPE=text/html:Join us for a delightful evening of delicacies\, drinks\, and dancing! Bid on wonderful silent auction items while enjoying food from A Bowl of Good and beer from Pale Fire Brewing. Dance the night away to music played by special guest DJ Divix from NYC. All proceeds will benefit the Harrisonburg Dance Cooperative mission of bringing dance to all! Tickets $35 in advance\, $40 at the door. Tickets may be purchased at <a href="https://www.artful.ly/store/events/14775">https://www.artful.ly/store/events/14775</a>
LOCATION:292 North Gallery - Church of the Incarnation 292 N. Liberty St Harrisonburg VA 22802
UID:e.2338.4770
SEQUENCE:3
DTSTAMP:20260420T114145Z
URL:https://chamber.hrchamber.org/events/details/harrisonburg-dance-cooperative-presents-shall-we-dance-fundraising-gala-4770
END:VEVENT

END:VCALENDAR
