BEGIN:VCALENDAR
VERSION:2.0
PRODID:-//ChamberMaster//Event Calendar 2.0//EN
METHOD:PUBLISH
X-PUBLISHED-TTL:P3D
REFRESH-INTERVAL:P3D
CALSCALE:GREGORIAN
BEGIN:VEVENT
DTSTART:20170311T000000Z
DTEND:20170311T030000Z
X-MICROSOFT-CDO-ALLDAYEVENT:FALSE
SUMMARY:Harrisonburg Dance Cooperative fundraising gala
DESCRIPTION:Come one\, come all to revel in knowing that "the best things happen while you're dancing"! Support Harrisonburg Dance Cooperative and attend our Gala Fundraiser next month\, Friday\, March 10th! Delicacies\, drinks\, and dance party will be provided and tantalizing silent actions items for you to bid on (and win) as well! Ellie de Waal\, HDC president\, will also update you on our efforts and creative process. Tickets to the event are $30 per person.
X-ALT-DESC;FMTTYPE=text/html:Come one\, come all to revel in knowing that &quot\;the best things happen while you&#39\;re dancing&quot\;! Support Harrisonburg Dance Cooperative and attend our Gala Fundraiser next month\, Friday\, March 10th! Delicacies\, drinks\, and dance party will be provided and tantalizing silent actions items for you to bid on (and win) as well! Ellie de Waal\, HDC president\, will also update you on our efforts and creative process. Tickets to the event are $30 per person.
LOCATION:Church of the Incarnation 292 N. Liberty St Harrisonburg VA 22802
UID:e.2338.1549
SEQUENCE:3
DTSTAMP:20260421T135007Z
URL:https://chamber.hrchamber.org/events/details/harrisonburg-dance-cooperative-fundraising-gala-1549
END:VEVENT

END:VCALENDAR
