BEGIN:VCALENDAR
VERSION:2.0
PRODID:-//ChamberMaster//Event Calendar 2.0//EN
METHOD:PUBLISH
X-PUBLISHED-TTL:P3D
REFRESH-INTERVAL:P3D
CALSCALE:GREGORIAN
BEGIN:VEVENT
DTSTART:20170814T150000Z
DTEND:20170814T223000Z
X-MICROSOFT-CDO-ALLDAYEVENT:FALSE
SUMMARY:Harrisonburg Broadcasters for Blood
DESCRIPTION:Broadcasters for Blood 2017 will be taking place at the all new DoubleTree by Hilton on Monday\, August 14th from 11 am to 6:30 pm! Food and fun giveaways will be featured throughout the day\, along with free lunch totes for all donors\, while supplies last! Walk-ins are welcome\, but appointments are encouraged. To secure your spot\, go to https://donateblood.vablood.org. Be a summer lifesaver -- give blood!
X-ALT-DESC;FMTTYPE=text/html:Broadcasters for Blood 2017 will be taking place at the all new DoubleTree by Hilton on Monday\, August 14th from 11 am to 6:30 pm! Food and fun giveaways will be featured throughout the day\, along with free lunch totes for all donors\, while supplies last! Walk-ins are welcome\, but appointments are encouraged. To secure your spot\, go to https://donateblood.vablood.org. Be a summer lifesaver -- give blood!
LOCATION:DoubleTree by Hilton 1400 East Market Street Harrisonburg
UID:e.2338.3188
SEQUENCE:3
DTSTAMP:20260420T011232Z
URL:https://chamber.hrchamber.org/events/details/harrisonburg-broadcasters-for-blood-3188
END:VEVENT

END:VCALENDAR
