BEGIN:VCALENDAR
VERSION:2.0
PRODID:-//ChamberMaster//Event Calendar 2.0//EN
METHOD:PUBLISH
X-PUBLISHED-TTL:P3D
REFRESH-INTERVAL:P3D
CALSCALE:GREGORIAN
BEGIN:VEVENT
DTSTART:20190913T163000Z
DTEND:20190913T203000Z
X-MICROSOFT-CDO-ALLDAYEVENT:FALSE
SUMMARY:Half Day Speaker Training Workshop: Modeling the Maxwell Method of Speaking (Certificate Included)
DESCRIPTION:Want to improve your speaking skills? Learn from a master of communication\, John C. Maxwell. This half-day workshop will be a powerful experiential speaker training workshop\, covering topics such as:\n\n  The art and practice of DEVELOPING STORIES.\n\n  HOW TO CONNECT WITH YOUR AUDIENCE and hold their attention.\n\n  HOW TO OVERCOME THE FEAR of speaking in public.\n\n  DEVELOPING YOUR OWN STYLE of communication.\n\n  CRAFTING YOUR CONTENT for the most effective presentation.\n\nSESSION 1\n\nUNDERSTANDING THE MAXWELL METHOD\n\nThe Power of Stories\n\nConnecting with The Audience\n\nSpeaking from the Heart\n\nEntertainment\, Education\, Experience\n\nSESSION 2\n\nLIVE COACHING DEMONSTRATION\n\nFinding Your Style\n\nBody Language Basics\n\nDeveloping and Crafting\n\nPersonal Stories\n\nUpon completion of this training\, participants will have the knowledge and skills to effectively use the Maxwell Method of Speaking to become a better speaker. Each participant will also receive a Certificate of Completion!
X-ALT-DESC;FMTTYPE=text/html:<p>Want to improve your speaking skills? Learn from a master of communication\, John C. Maxwell. This half-day workshop will be a powerful experiential speaker training workshop\, covering topics such as:<br />\n&bull\; The art and practice of DEVELOPING STORIES.<br />\n&bull\; HOW TO CONNECT WITH YOUR AUDIENCE and hold their attention.<br />\n&bull\; HOW TO OVERCOME THE FEAR of speaking in public.<br />\n&bull\; DEVELOPING YOUR OWN STYLE of communication.<br />\n&bull\; CRAFTING YOUR CONTENT for the most effective presentation.</p>\n\n<p>SESSION 1<br />\nUNDERSTANDING THE MAXWELL METHOD<br />\nThe Power of Stories<br />\nConnecting with The Audience<br />\nSpeaking from the Heart<br />\nEntertainment\, Education\, Experience</p>\n\n<p>SESSION 2<br />\nLIVE COACHING DEMONSTRATION<br />\nFinding Your Style<br />\nBody Language Basics<br />\nDeveloping and Crafting<br />\nPersonal Stories</p>\n\n<p>Upon completion of this training\, participants will have the knowledge and skills to effectively use the Maxwell Method of Speaking to become a better speaker. Each participant will also receive a Certificate of Completion!</p>\n
LOCATION:Harrisonburg-Rockingham Chamber of Commerce 800 Country Club Rd Harrisonburg\, VA 22802
UID:e.2338.6927
SEQUENCE:3
DTSTAMP:20260419T172633Z
URL:https://chamber.hrchamber.org/events/details/half-day-speaker-training-workshop-modeling-the-maxwell-method-of-speaking-certificate-included-09-13-2019-6927
END:VEVENT

END:VCALENDAR
