BEGIN:VCALENDAR
VERSION:2.0
PRODID:-//ChamberMaster//Event Calendar 2.0//EN
METHOD:PUBLISH
X-PUBLISHED-TTL:P3D
REFRESH-INTERVAL:P3D
CALSCALE:GREGORIAN
BEGIN:VEVENT
DTSTART:20170406T160000Z
DTEND:20170406T200000Z
X-MICROSOFT-CDO-ALLDAYEVENT:FALSE
SUMMARY:Green Valley Auctions & Moving Celebrates 50 Years of Service with a Tribute to Our Founders\, Leighton & Kathryn Evans
DESCRIPTION:Green Valley Auctions & Moving\, 1967 - 2017\n\nCelebrates 50 Years of Service with a Tribute to Our Founders\, Leighton & Kathryn Evans\nJoin us as we...\n\n\n	Listen to stories from Leighton & Kathryn Evans\, who will be here to share memories and swap stories.\n	Visit the old bank barn where Green Valley originated and held its Friday night auctions from 1967 until 1985. \n	Share old photos and memories from the past 50 years. We are collecting stories from anyone who attended auctions or book fair during those early years\, so please come and share!\n	Enjoy great food!\n	Preview the April 7 Antique & Firearm Estate Auction.\n\nWe look forward to seeing you! Greg & Elizabeth Evans
X-ALT-DESC;FMTTYPE=text/html:<h1>Green Valley Auctions &amp\; Moving\, 1967 - 2017</h1>\n\n<h2><em>Celebrates 50 Years of Service with a Tribute to Our Founders\, Leighton &amp\; Kathryn Evans</em></h2>\n<strong>Join us as we...</strong>\n\n<ul>\n	<li>Listen to stories from Leighton &amp\; Kathryn Evans\,&nbsp\;who will be here to share memories and swap stories.</li>\n	<li>Visit the old bank barn where Green Valley originated&nbsp\;and held its Friday night auctions from 1967 until 1985.&nbsp\;</li>\n	<li>Share old photos and memories from the past 50 years.&nbsp\;We are collecting stories from anyone who attended auctions or&nbsp\;book fair during those early years\, so please come and share!</li>\n	<li>Enjoy great food!</li>\n	<li>Preview the April 7 Antique &amp\; Firearm Estate Auction.</li>\n</ul>\nWe look forward to seeing you! <em>Greg &amp\; Elizabeth Evans&nbsp\;</em>
LOCATION:2259 Green Valley Lane\, Mt. Crawford
UID:e.2338.1563
SEQUENCE:3
DTSTAMP:20260421T121529Z
URL:https://chamber.hrchamber.org/events/details/green-valley-auctions-moving-celebrates-50-years-of-service-with-a-tribute-to-our-founders-leighton-kathryn-evans-1563
END:VEVENT

END:VCALENDAR
