BEGIN:VCALENDAR
VERSION:2.0
PRODID:-//ChamberMaster//Event Calendar 2.0//EN
METHOD:PUBLISH
X-PUBLISHED-TTL:P3D
REFRESH-INTERVAL:P3D
CALSCALE:GREGORIAN
BEGIN:VEVENT
DTSTART:20170401T160000Z
DTEND:20170401T173000Z
X-MICROSOFT-CDO-ALLDAYEVENT:FALSE
SUMMARY:Green Valley Auctions & Moving Bowls For Kids Sake
DESCRIPTION:Dear Auction Friends\,\n\n\n\nElizabeth and Greg Evans have been "Bigs" for Big Brothers/Big Sisters for 3 years. Our friendship with our "littles" not only gives them stability and love\, but it also gives us an invaluable connection to a child who will be a life-long part of our family. \n\n\n\nFor over 100 years\, Big Brothers Big Sisters has operated under the belief that inherent in every child is the ability to succeed and thrive in life. They help children realize their potential and build their futures. BBBS nurtures children and strengthens communities. And they couldn't do any of it without the \n\nsupport of volunteers and donors.\n\n\n\nThat's where you come in! Green Valley Auctions & Moving is a sponsor for BBBS Bowl for Kids Sake. We have 2 bowling teams and we want to raise lots of money! You can help & here's how:\n\n\n\nGo online to https://www.bbbsbowl.org and find one of Green Valley Auctions & Moving Teams (Mighty Movers OR Muscular Movers) and donate to a bowler.
X-ALT-DESC;FMTTYPE=text/html:Dear Auction Friends\,<br />\n<br />\nElizabeth and Greg Evans have been &ldquo\;Bigs&rdquo\; for Big Brothers/Big Sisters for 3 years. Our friendship with our &ldquo\;littles&rdquo\; not only gives them stability and love\, but it also gives us an invaluable connection to a child who will be a life-long part of our family.&nbsp\;<br />\n<br />\nFor over 100 years\, Big Brothers Big Sisters has operated under the belief that inherent in every child is the ability to succeed and thrive in life. They help children realize their potential and build their futures. BBBS nurtures children and strengthens communities. And they couldn&rsquo\;t do any of it without the&nbsp\;<br />\nsupport of volunteers and donors.<br />\n<br />\nThat&rsquo\;s where you come in! Green Valley Auctions &amp\; Moving is a sponsor for BBBS Bowl for Kids Sake. We have 2 bowling teams and we want to raise lots of money! You can help &amp\; here&rsquo\;s how:<br />\n<br />\nGo online to https://www.bbbsbowl.org and find one of Green Valley Auctions &amp\; Moving Teams (Mighty Movers OR Muscular Movers) and donate to a bowler.
LOCATION:
UID:e.2338.1564
SEQUENCE:3
DTSTAMP:20260421T121234Z
URL:https://chamber.hrchamber.org/events/details/green-valley-auctions-moving-bowls-for-kids-sake-1564
END:VEVENT

END:VCALENDAR
