BEGIN:VCALENDAR
VERSION:2.0
PRODID:-//ChamberMaster//Event Calendar 2.0//EN
METHOD:PUBLISH
X-PUBLISHED-TTL:P3D
REFRESH-INTERVAL:P3D
CALSCALE:GREGORIAN
BEGIN:VEVENT
DTSTART:20171212T220000Z
DTEND:20171213T000000Z
X-MICROSOFT-CDO-ALLDAYEVENT:FALSE
SUMMARY:Greater Ashby Business Council
DESCRIPTION:We encourage you to join the Greater Ashby Business Council for the annual Holiday Social. The Holiday Social is a great opportunity to connect with other Greater Ashby area businesses.\n\n \n\nSponsorship's Available for this event.
X-ALT-DESC;FMTTYPE=text/html:<div style="color: rgb(94\, 98\, 98)\; font-family: Verdana\, Geneva\, sans-serif\; font-size: 14px\; text-align: center\; white-space: pre-wrap\; background-color: rgb(108\, 175\, 107)\;"><span style="color: rgb(255\, 255\, 255)\; font-size: 12px\;">We encourage you to join the Greater Ashby Business Council for the annual Holiday Social. The Holiday Social is a great opportunity to connect with other Greater Ashby area businesses.</span></div>\n\n<div style="color: rgb(94\, 98\, 98)\; font-family: Verdana\, Geneva\, sans-serif\; font-size: 14px\; text-align: center\; white-space: pre-wrap\; background-color: rgb(108\, 175\, 107)\;">&nbsp\;</div>\n\n<div style="color: rgb(94\, 98\, 98)\; font-family: Verdana\, Geneva\, sans-serif\; font-size: 14px\; text-align: center\; white-space: pre-wrap\; background-color: rgb(108\, 175\, 107)\;"><span style="color: rgb(255\, 255\, 255)\; font-size: 12px\;">Sponsorship&#39\;s Available for this event.</span></div>\n
LOCATION:Date: December 12 Time: 5-7 pm Location: Cracked Pillar Pub 403 N Main St. Bridgewater
UID:e.2338.3339
SEQUENCE:3
DTSTAMP:20260420T054836Z
URL:https://chamber.hrchamber.org/events/details/greater-ashby-business-council-3339
END:VEVENT

END:VCALENDAR
