BEGIN:VCALENDAR
VERSION:2.0
PRODID:-//ChamberMaster//Event Calendar 2.0//EN
METHOD:PUBLISH
X-PUBLISHED-TTL:P3D
REFRESH-INTERVAL:P3D
CALSCALE:GREGORIAN
BEGIN:VEVENT
DTSTART:20171116T220000Z
DTEND:20171117T000000Z
X-MICROSOFT-CDO-ALLDAYEVENT:FALSE
SUMMARY:Goodwin Oral & Facial Surgery BAH Event RSVP
DESCRIPTION:Goodwin Oral & Facial Surgery Business After Hours
X-ALT-DESC;FMTTYPE=text/html:Goodwin Oral &amp\; Facial Surgery Business After Hours
LOCATION:3200 Peoples Dr #210\, Harrisonburg\, VA 22801
UID:e.2338.3297
SEQUENCE:3
DTSTAMP:20260420T055235Z
URL:https://chamber.hrchamber.org/events/details/goodwin-oral-facial-surgery-bah-event-rsvp-3297
END:VEVENT

END:VCALENDAR
