BEGIN:VCALENDAR
VERSION:2.0
PRODID:-//ChamberMaster//Event Calendar 2.0//EN
METHOD:PUBLISH
X-PUBLISHED-TTL:P3D
REFRESH-INTERVAL:P3D
CALSCALE:GREGORIAN
BEGIN:VEVENT
DTSTART:20170721T160000Z
DTEND:20170721T210000Z
X-MICROSOFT-CDO-ALLDAYEVENT:FALSE
SUMMARY:Golfing for Literacy
DESCRIPTION:Lunch at 12 and play begins at 1pm! Register an individual or a team. $75 per player. Sponsorships are still available for businesses! All proceeds support Skyline Literacy programs. Call 540-433-0505 for reservation & sponsorship information!
X-ALT-DESC;FMTTYPE=text/html:Lunch at 12 and play begins at 1pm! Register an individual or a team. $75 per player. Sponsorships are still available for businesses! All proceeds support Skyline Literacy programs. Call 540-433-0505 for reservation &amp\; sponsorship information!
LOCATION:Lakeview Golf Club - 4101 Shen Lake Drive\, Harrisonburg\, VA 22801
UID:e.2338.2701
SEQUENCE:3
DTSTAMP:20260419T234219Z
URL:https://chamber.hrchamber.org/events/details/golfing-for-literacy-2701
END:VEVENT

END:VCALENDAR
