BEGIN:VCALENDAR
VERSION:2.0
PRODID:-//ChamberMaster//Event Calendar 2.0//EN
METHOD:PUBLISH
X-PUBLISHED-TTL:P3D
REFRESH-INTERVAL:P3D
CALSCALE:GREGORIAN
BEGIN:VEVENT
DTSTART:20150911T160000Z
DTEND:20150911T223000Z
X-MICROSOFT-CDO-ALLDAYEVENT:FALSE
SUMMARY:Golf Tournament
DESCRIPTION:Join us on the green\, Friday September 11 at Lakeview Golf Course for the Annual Golf Tourney!
X-ALT-DESC;FMTTYPE=text/html:<p style="font-size: 12px\; font-family: Arial\, Helvetica\, sans-serif\; line-height: 16px\;">Join us on the green\, Friday September 11 at Lakeview Golf Course for the Annual Golf Tourney!<span style="color: rgb(0\, 0\, 0)\;">&nbsp\;</span></p>\n
LOCATION:Lake View Golf Course 4101 Shen Lake Dr\, Harrisonburg\, VA 22801 (540) 434-8937
UID:e.2338.288
SEQUENCE:3
DTSTAMP:20260424T160404Z
URL:https://chamber.hrchamber.org/events/details/golf-tournament-09-11-2015-288
END:VEVENT

END:VCALENDAR
