BEGIN:VCALENDAR
VERSION:2.0
PRODID:-//ChamberMaster//Event Calendar 2.0//EN
METHOD:PUBLISH
X-PUBLISHED-TTL:P3D
REFRESH-INTERVAL:P3D
CALSCALE:GREGORIAN
BEGIN:VEVENT
DTSTART:20190326T160000Z
DTEND:20190530T160000Z
X-MICROSOFT-CDO-ALLDAYEVENT:FALSE
SUMMARY:Give Solar for Gemeinschaft Home
DESCRIPTION:March 1st kicked off the solar crowd funding campaign benefitting Gemeinschaft Home.  Over the next three months\, Give Solar\, a local non-profit that helps social service non-profits to greatly reduce their electric bills by going solar\, is partnering with Gemeinschaft Home to crowd fund $19\,000 to help Gemeinschaft Home go solar.  The 26.2 kilowatt solar system will save Gemeinschaft $5000 each year for the next 25-30 years allowing the non profit to better accomplish their mission of providing cutting edge therapeutic services to nonviolent offenders who have been released or diverted from incarceration in support of a transition to healthy community living.  The crowdfunding goal is 300 donations of $20 to $30.  Each dollar donated will save Gemeinschaft Home $5 over time.  Pay it forward!  For more information and to donate Click here.
X-ALT-DESC;FMTTYPE=text/html:<strong><span style="color:black"><span style="font-family:arial">March 1st kicked off the solar crowd funding campaign benefitting&nbsp\;</span></span></strong><span style="color:black"><span style="font-family:arial"><strong><u><span style="color:blue">Gemeinschaft Home</span></u></strong></span><strong>.&nbsp\;&nbsp\;</strong>Over the next three months\,&nbsp\;Give Solar\, a local non-profit that helps social service non-profits to greatly reduce their electric bills by going solar\, is partnering with Gemeinschaft Home to crowd fund $19\,000 to help Gemeinschaft Home go solar.&nbsp\; The 26.2 kilowatt solar system will save Gemeinschaft $5000 each year for the next 25-30 years allowing the non profit to better accomplish their mission of&nbsp\;</span><span style="color:#2A2A2A"><span style="font-family:arial">providing&nbsp\;cutting edge therapeutic services to nonviolent offenders who have been released or diverted from incarceration in support of a transition to healthy community living.&nbsp\;</span></span><span style="color:black"><span style="font-family:arial">&nbsp\;The crowdfunding goal is 300 donations of $20 to $30.&nbsp\; Each dollar donated will save Gemeinschaft Home $5 over time.&nbsp\; Pay it forward!&nbsp\; For more information and to donate&nbsp\;<u><span style="color:blue">Click here</span></u></span><u>.</u></span><br />\n&nbsp\;<br />\n&nbsp\;<br />\n&nbsp\;
LOCATION:
UID:e.2338.6542
SEQUENCE:3
DTSTAMP:20260419T224559Z
URL:https://chamber.hrchamber.org/events/details/give-solar-for-gemeinschaft-home-6542
END:VEVENT

END:VCALENDAR
