BEGIN:VCALENDAR
VERSION:2.0
PRODID:-//ChamberMaster//Event Calendar 2.0//EN
METHOD:PUBLISH
X-PUBLISHED-TTL:P3D
REFRESH-INTERVAL:P3D
CALSCALE:GREGORIAN
BEGIN:VEVENT
DTSTART:20190418T154500Z
DTEND:20190418T171500Z
X-MICROSOFT-CDO-ALLDAYEVENT:FALSE
SUMMARY:Fundraising Professionals Workshop: Partnering with your local media
DESCRIPTION:Partnering with your local media\nJoin us for a panel discussion with members from local news outlets featuring how to get your message out. This will be an interactive discussion where print\, radio and television will help you craft a message that garners attention.\n\n \n\nRegister today for the workshop luncheon! RSVP online or contact Carrie Budd.\n\nPresented by the Shenandoah Chapter of the Association of Fundraising Professionals with support from F&M Bank. Meetings consist of a program with a guest speaker\, a buffet lunch\, a short business meeting\, and networking time. Learn more at https://community.afpnet.org/afpvashenandoahchapter/events/recentcommunityeventsdashboard.
X-ALT-DESC;FMTTYPE=text/html:<div><strong>Partnering with your local media</strong>\n<div><span style="color:rgb(34\, 34\, 34)\; font-family:calibri\,helvetica\,arial\,sans-serif\; font-size:16px">Join us for a panel discussion with members from local news outlets featuring how to get your message out. This will be an interactive discussion where print\, radio and television will help you craft a message that garners attention.</span></div>\n\n<div><span style="color:rgb(34\, 34\, 34)">&nbsp\;</span></div>\n\n<div><span style="color:rgb(87\, 86\, 81)\; font-family:verdana\,sans-serif\; font-size:14px"><strong>Register today for the workshop luncheon!&nbsp\;</strong>RSVP&nbsp\;</span><a href="https://goo.gl/forms/WLH4CC3tWWK6JbW13" style="color: rgb(20\, 66\, 107)\; background-image: initial\; background-position: initial\; background-size: initial\; background-repeat: initial\; background-attachment: initial\; background-origin: initial\; background-clip: initial\; box-sizing: border-box\; cursor: pointer\; font-family: Verdana\, sans-serif\; font-size: 14px\;">online&nbsp\;</a><span style="color:rgb(87\, 86\, 81)\; font-family:verdana\,sans-serif\; font-size:14px">or contact&nbsp\;</span><span style="color:rgb(87\, 86\, 81)\; font-family:verdana\,sans-serif\; font-size:14px"><a href="mailto:cbudd@brcliving.org" rel="noopener" style="color: rgb(20\, 66\, 107)\; box-sizing: border-box\; background: transparent\; cursor: pointer\;" target="_blank">Carrie Budd.</a></span></div>\n\n<p><span style="font-size:10pt">Presented by the Shenandoah Chapter of the Association of Fundraising Professionals with support from F&amp\;M Bank. Meetings consist of a program with a guest speaker\, a buffet lunch\, a short business meeting\, and networking time.&nbsp\;</span>Learn more at&nbsp\;https://community.afpnet.org/afpvashenandoahchapter/events/recentcommunityeventsdashboard.</p>\n\n<p>&nbsp\;</p>\n</div>\n
LOCATION:Spotswood Country Club\, Harrisonburg\, VA
UID:e.2338.6568
SEQUENCE:3
DTSTAMP:20260420T002027Z
URL:https://chamber.hrchamber.org/events/details/fundraising-professionals-workshop-partnering-with-your-local-media-6568
END:VEVENT

END:VCALENDAR
