BEGIN:VCALENDAR
VERSION:2.0
PRODID:-//ChamberMaster//Event Calendar 2.0//EN
METHOD:PUBLISH
X-PUBLISHED-TTL:P3D
REFRESH-INTERVAL:P3D
CALSCALE:GREGORIAN
BEGIN:VEVENT
DTSTART:20190321T160000Z
DTEND:20190321T171500Z
X-MICROSOFT-CDO-ALLDAYEVENT:FALSE
SUMMARY:Fundraising Professionals Workshop: 20 questions for Better Donor Visits
DESCRIPTION:20 questions for Better Donor Visits\n\nPresented by Jay Frost\n\n \nIf you could ask any questions of your donors\, what would they be? What do you really want and need to know?\n\nSome questions bring us deeper\, more revealing\, and more pertinent answers. And\, most importantly\, they bring us closer to those who are contemplating the legacy they wish to leave behind. In this interactive session\, we will compare notes on the questions that will take you from guessing to knowing about your donor and within inches of securing their transformational support.\n\n \n\nOver the last three decades\, Jay Frost has worked to identify and pursue billions in fundraising opportunities for thousands of charitable organizations around the world. He has been recognized as one of America's Top 10 Fundraising Experts by Philanthropy Media\, one of the Top Eight Fundraising Influencers by Elevation Media\, and one of the Top Thirteen Excellent Fundraising Consultants by Double the Donation. \n\n \n\nRegister today for the workshop luncheon! RSVP online or contact Carrie Budd.\n\nPresented by the Shenandoah Chapter of the Association of Fundraising Professionals with support from F&M Bank. Meetings consist of a program with a guest speaker\, a buffet lunch\, a short business meeting\, and networking time. Cost is $20 for members\, free for first-time guests first time\, and $30 for all other guests. \n\nLearn more at https://community.afpnet.org/afpvashenandoahchapter/events/recentcommunityeventsdashboard.
X-ALT-DESC;FMTTYPE=text/html:<div><span style="font-size:14px"><strong>20 questions for Better Donor Visits</strong></span></div>\n\n<div><strong><span style="font-size:14px">Presented by Jay Frost</span></strong><br />\n&nbsp\;\n<div><span style="color:rgb(34\, 34\, 34)">If you could ask any questions of your donors\, what would they be? What do you really want and need to know?</span></div>\n\n<div><span style="color:rgb(34\, 34\, 34)">Some questions bring us&nbsp\;deeper\, more revealing\, and more pertinent answers. And\, most importantly\, they bring us closer to those who are contemplating the legacy they wish to leave&nbsp\;behind. In this interactive session\, we will compare notes on the questions that will take you from guessing to knowing about your donor and within inches of&nbsp\;securing their transformational support.</span></div>\n\n<div>&nbsp\;</div>\n\n<div><span style="color:rgb(34\, 34\, 34)">Over the last three decades\, Jay Frost has worked to identify and pursue billions in fundraising opportunities for thousands of charitable&nbsp\;organizations around the world.&nbsp\;He has been recognized as one of&nbsp\;America&#39\;s Top 10 Fundraising Experts by Philanthropy Media\, one of the&nbsp\;Top&nbsp\;Eight Fundraising Influencers by Elevation Media\, and one of the&nbsp\;Top Thirteen Excellent Fundraising Consultants by Double the Donation.&nbsp\;</span></div>\n\n<div><span style="color:rgb(34\, 34\, 34)">&nbsp\;</span></div>\n\n<div><span style="color:rgb(87\, 86\, 81)\; font-family:verdana\,sans-serif\; font-size:14px"><strong>Register today for the workshop luncheon!&nbsp\;</strong>RSVP&nbsp\;</span><a href="https://goo.gl/forms/WLH4CC3tWWK6JbW13" style="color: rgb(20\, 66\, 107)\; background-image: initial\; background-position: initial\; background-size: initial\; background-repeat: initial\; background-attachment: initial\; background-origin: initial\; background-clip: initial\; box-sizing: border-box\; cursor: pointer\; font-family: Verdana\, sans-serif\; font-size: 14px\;">online&nbsp\;</a><span style="color:rgb(87\, 86\, 81)\; font-family:verdana\,sans-serif\; font-size:14px">or contact&nbsp\;</span><span style="color:rgb(87\, 86\, 81)\; font-family:verdana\,sans-serif\; font-size:14px"><a href="mailto:cbudd@brcliving.org" rel="noopener" style="color: rgb(20\, 66\, 107)\; box-sizing: border-box\; background: transparent\; cursor: pointer\;" target="_blank">Carrie Budd.</a></span></div>\n\n<p><span style="font-size:10pt">Presented by the Shenandoah Chapter of the Association of Fundraising Professionals with support from F&amp\;M Bank. Meetings consist of a program with a guest speaker\, a buffet lunch\, a short business meeting\, and networking time. Cost is $20 for members\, free for first-time guests first time\, and $30 for all other guests.&nbsp\;</span></p>\n\n<p>Learn more at&nbsp\;https://community.afpnet.org/afpvashenandoahchapter/events/recentcommunityeventsdashboard.<br />\n&nbsp\;</p>\n</div>\n
LOCATION:Spotswood Country Club\, Harrisonburg\, VA
UID:e.2338.6509
SEQUENCE:3
DTSTAMP:20260420T013159Z
URL:https://chamber.hrchamber.org/events/details/fundraising-professionals-workshop-20-questions-for-better-donor-visits-6509
END:VEVENT

END:VCALENDAR
