BEGIN:VCALENDAR
VERSION:2.0
PRODID:-//ChamberMaster//Event Calendar 2.0//EN
METHOD:PUBLISH
X-PUBLISHED-TTL:P3D
REFRESH-INTERVAL:P3D
CALSCALE:GREGORIAN
BEGIN:VEVENT
DTSTART:20181109T170000Z
DTEND:20181109T210000Z
X-MICROSOFT-CDO-ALLDAYEVENT:FALSE
SUMMARY:Friends of MRL Book Sale - Special Bag Sale
DESCRIPTION:Special Bag Sale!\n\n\n\nFriday\, November 9 from Noon-4pm\n\nSaturday\, November 10 from Noon-4pm\n\n\n\nFill a paper grocery bag for only $5.\n\n(bags provided)\n\n\n\nThe Friends of MRL Book Sale features over 10\,000 used books in all categories\, including fiction\, history\, science\, religion\, literature\, biography\, large print\, childrens\, young adult\, entertainment\, health\, self-help\, & more.\n\n\n\nAll proceeds benefit Massanutten Regional Library
X-ALT-DESC;FMTTYPE=text/html:Special Bag Sale!<br />\n<br />\nFriday\, November 9 from Noon-4pm<br />\nSaturday\, November 10 from Noon-4pm<br />\n<br />\nFill a paper grocery bag for only $5.<br />\n(bags provided)<br />\n<br />\nThe Friends of MRL Book Sale features over 10\,000 used books in all categories\, including fiction\, history\, science\, religion\, literature\, biography\, large print\, childrens\, young adult\, entertainment\, health\, self-help\, &amp\; more.<br />\n<br />\nAll proceeds benefit Massanutten Regional Library
LOCATION:Massanutten Regional Library Central Library 174 South Main Street Harrisonburg\, VA 22801
UID:e.2338.6082
SEQUENCE:3
DTSTAMP:20260420T075252Z
URL:https://chamber.hrchamber.org/events/details/friends-of-mrl-book-sale-special-bag-sale-6082
END:VEVENT

END:VCALENDAR
