BEGIN:VCALENDAR
VERSION:2.0
PRODID:-//ChamberMaster//Event Calendar 2.0//EN
METHOD:PUBLISH
X-PUBLISHED-TTL:P3D
REFRESH-INTERVAL:P3D
CALSCALE:GREGORIAN
BEGIN:VEVENT
DTSTART:20181107T150000Z
DTEND:20181107T230000Z
X-MICROSOFT-CDO-ALLDAYEVENT:FALSE
SUMMARY:Friends of MRL Book Sale
DESCRIPTION:The Friends of MRL Book Sale features over 10\,000 used books in all categories\, including fiction\, history\, science\, religion\, literature\, biography\, large print\, childrens\, young adult\, entertainment\, health\, self-help\, & more.\n\n\n\nHardcovers $2\n\nSoftcovers $1\n\nChildrens $0.25\n\nSpecial Section of $0.25 books including a large selection of mass market paperbacks @ $0.25\n\n\n\nMonday\, Nov. 5 from 10am-6pm\n\nTuesday\, Nov. 6 from 10am-6pm\n\nWednesday\, Nov. 7 from 10am-6pm\n\n\n\nSpecial Bag Sale!\n\n\n\nFriday\, November 9 from Noon-4pm\n\nSaturday\, November 10 from Noon-4pm\n\n\n\nFill a paper grocery bag for only $5.\n\n(bags provided)\n\n\n\nAll proceeds benefit Massanutten Regional Library
X-ALT-DESC;FMTTYPE=text/html:The Friends of MRL Book Sale features over 10\,000 used books in all categories\, including fiction\, history\, science\, religion\, literature\, biography\, large print\, childrens\, young adult\, entertainment\, health\, self-help\, &amp\; more.<br />\n<br />\nHardcovers $2<br />\nSoftcovers $1<br />\nChildrens $0.25<br />\nSpecial Section of $0.25 books including a large selection of mass market paperbacks @ $0.25<br />\n<br />\nMonday\, Nov. 5 from 10am-6pm<br />\nTuesday\, Nov. 6 from 10am-6pm<br />\nWednesday\, Nov. 7 from 10am-6pm<br />\n<br />\nSpecial Bag Sale!<br />\n<br />\nFriday\, November 9 from Noon-4pm<br />\nSaturday\, November 10 from Noon-4pm<br />\n<br />\nFill a paper grocery bag for only $5.<br />\n(bags provided)<br />\n<br />\nAll proceeds benefit Massanutten Regional Library
LOCATION:Massanutten Regional Library Central Library 174 South Main Street Harrisonburg\, VA 22801
UID:e.2338.6081
SEQUENCE:3
DTSTAMP:20260420T075231Z
URL:https://chamber.hrchamber.org/events/details/friends-of-mrl-book-sale-11-07-2018-6081
END:VEVENT

END:VCALENDAR
