BEGIN:VCALENDAR
VERSION:2.0
PRODID:-//ChamberMaster//Event Calendar 2.0//EN
METHOD:PUBLISH
X-PUBLISHED-TTL:P3D
REFRESH-INTERVAL:P3D
CALSCALE:GREGORIAN
BEGIN:VEVENT
DTSTART;VALUE=DATE:20210507
DTEND;VALUE=DATE:20210508
TRANSP:TRANSPARENT
X-MICROSOFT-CDO-ALLDAYEVENT:TRUE
SUMMARY:Friday Night LOVE - Stable Craft Brewing Passionfruit Cider Release
DESCRIPTION:Come and enjoy our new release of Passionfruit Cider at 4pm.  The perfect drink for Mother's Day Weekend -\n\nwe've infused our delicious cider with tropical flavors of Passionfruit to create this spring time treat.
X-ALT-DESC;FMTTYPE=text/html:<span style="font-size:14px\;"><span style="font-family:arial\;"><strong>Come and enjoy our new release of Passionfruit Cider at 4pm.&nbsp\;&nbsp\;<span style="color: rgb(5\, 5\, 5)\;">The perfect drink for Mother&#39\;s Day Weekend -</span><br style="color: rgb(5\, 5\, 5)\; font-family: &quot\;Segoe UI Historic&quot\;\, &quot\;Segoe UI&quot\;\, Helvetica\, Arial\, sans-serif\; font-size: 15px\;" />\n<span style="color: rgb(5\, 5\, 5)\;">we&#39\;ve infused our delicious cider with tropical flavors of Passionfruit to create this spring time treat.</span></strong></span></span>
LOCATION:375 Madrid Rd Waynesboro\, VA 22980
UID:e.2338.10564
SEQUENCE:3
DTSTAMP:20260424T014346Z
URL:https://chamber.hrchamber.org/events/details/friday-night-love-stable-craft-brewing-passionfruit-cider-release-10564
END:VEVENT

END:VCALENDAR
