BEGIN:VCALENDAR
VERSION:2.0
PRODID:-//ChamberMaster//Event Calendar 2.0//EN
METHOD:PUBLISH
X-PUBLISHED-TTL:P3D
REFRESH-INTERVAL:P3D
CALSCALE:GREGORIAN
BEGIN:VEVENT
DTSTART:20190212T133000Z
DTEND:20190212T160000Z
X-MICROSOFT-CDO-ALLDAYEVENT:FALSE
SUMMARY:FREE Seminar | Recruitment & Retention Strategies Using Radio
DESCRIPTION:Are you HIRING?!\n\n\n\n\n\n\n\n\nHosted by an awesome dynamic speaker in the Recruitment and Employee Retention Industry\, Chris Stonick on Tuesday Morning February 12th\, 9am to 11am at The Spotswood Country Club. Free breakfast will be provided.\n\nIf you are not the person that does the recruiting and hiring for your company please tell us who is and we will send an invite right away!\n\nThe seminar will award any HR professionals 2 FREE CP/SCP credits\, as Chris is an accredited speaker with SHRM! Please bring anyone else with you that you think would benefit from this information!!!\n\nChris has been featured in HR Magazine sharing his expertise and ideas. He will be giving you these ideas to help you recruit more qualified candidates and retain your current employees EASIER! He will show you how to LOCATE and KEEP top talent without spending a penny more that you are currently spending.\n\nIn this seminar Chris will show you:\n\nIncrease Employee Retention 25-50%\n\nIncrease overall profitability of your company\n\nRaise Employee Morale
X-ALT-DESC;FMTTYPE=text/html:<div>\n<div>\n<div>\n<div>\n<div><strong>Are you HIRING?!</strong></div>\n</div>\n</div>\n</div>\n</div>\n\n<div>\n<div>\n<div>\n<p>Hosted by an awesome dynamic speaker in the Recruitment and Employee Retention Industry\, Chris Stonick on Tuesday Morning February 12th\, 9am to 11am at The Spotswood Country Club. Free breakfast will be provided.</p>\n\n<p>If you are not the person that does the recruiting and hiring for your company please tell us who is and we will send an invite right away!</p>\n\n<p>The seminar will award any HR professionals 2 FREE CP/SCP credits\, as Chris is an accredited speaker with SHRM! Please bring anyone else with you that you think would benefit from this information!!!</p>\n\n<p>Chris has been featured in HR Magazine sharing his expertise and ideas. He will be giving you these ideas to help you recruit more qualified candidates and retain your current employees EASIER! He will show you how to LOCATE and KEEP top talent without spending a penny more that you are currently spending.</p>\n\n<p>In this seminar Chris will show you:</p>\n\n<p>Increase Employee Retention 25-50%</p>\n\n<p>Increase overall profitability of your company</p>\n\n<p>Raise Employee Morale</p>\n</div>\n</div>\n</div>\n
LOCATION:Spotswood Country Club 1980 Country Club Road Harrisonburg\, VA 22802
UID:e.2338.6323
SEQUENCE:3
DTSTAMP:20260420T032533Z
URL:https://chamber.hrchamber.org/events/details/free-seminar-recruitment-retention-strategies-using-radio-6323
END:VEVENT

END:VCALENDAR
