BEGIN:VCALENDAR
VERSION:2.0
PRODID:-//ChamberMaster//Event Calendar 2.0//EN
METHOD:PUBLISH
X-PUBLISHED-TTL:P3D
REFRESH-INTERVAL:P3D
CALSCALE:GREGORIAN
BEGIN:VEVENT
DTSTART:20190424T140000Z
DTEND:20190424T153000Z
X-MICROSOFT-CDO-ALLDAYEVENT:FALSE
SUMMARY:FREE Medicare Educational Seminar
DESCRIPTION:There will also be another FREE Seminar on the same date\, April 24th at 6 p.m.-7:30 pm. (2 sessions on same day)\n\n\n\nFREE Medicare Educational Seminar\, Rockingham County Farm Bureau office at 1938 Deyerle Ave.\, Harrisonburg. Open to Public and everyone is urged to invite a friend! Please rsvp\, Sharon DeHaven at 540-434-6778 or sharon.dehaven@vafb.com. Refreshments will be served.
X-ALT-DESC;FMTTYPE=text/html:There will also be another FREE Seminar on the same date\, April 24th&nbsp\;at 6 p.m.-7:30 pm. (2 sessions on same day)<br />\n<br />\nFREE Medicare Educational Seminar\, Rockingham County Farm Bureau office at 1938 Deyerle Ave.\, Harrisonburg. Open to Public and everyone is urged to invite a friend! Please rsvp\, Sharon DeHaven at 540-434-6778 or <a href="mailto:sharon.dehaven@vafb.com">sharon.dehaven@vafb.com</a>. Refreshments will be served. &nbsp\;
LOCATION:Rockingham County Farm Bureau Insurance Office\, 1938 Deyerle Ave.\, Harrisonburg\, Va.
UID:e.2338.6560
SEQUENCE:3
DTSTAMP:20260420T001133Z
URL:https://chamber.hrchamber.org/events/details/free-medicare-educational-seminar-6560
END:VEVENT

END:VCALENDAR
