BEGIN:VCALENDAR
VERSION:2.0
PRODID:-//ChamberMaster//Event Calendar 2.0//EN
METHOD:PUBLISH
X-PUBLISHED-TTL:P3D
REFRESH-INTERVAL:P3D
CALSCALE:GREGORIAN
BEGIN:VEVENT
DTSTART:20160624T130000Z
DTEND:20160625T010000Z
X-MICROSOFT-CDO-ALLDAYEVENT:FALSE
SUMMARY:Free Fridays @ Massanutten Regional Library
DESCRIPTION:Youth (0-17) who have registered for MRL's summer reading program and wearing a Free Friday wristband may play one free round of golf at Mulligan's Golf Center when accompanied by a paying adult.
X-ALT-DESC;FMTTYPE=text/html:Youth (0-17) who have registered for MRL&#39\;s summer reading program and wearing a Free Friday wristband may play one free round of golf at Mulligan&#39\;s Golf Center when accompanied by a paying adult.
LOCATION:Mulligan's Golf Center
UID:e.2338.432
SEQUENCE:3
DTSTAMP:20260422T032538Z
URL:https://chamber.hrchamber.org/events/details/free-fridays-massanutten-regional-library-06-24-2016-432
END:VEVENT

END:VCALENDAR
