BEGIN:VCALENDAR
VERSION:2.0
PRODID:-//ChamberMaster//Event Calendar 2.0//EN
METHOD:PUBLISH
X-PUBLISHED-TTL:P3D
REFRESH-INTERVAL:P3D
CALSCALE:GREGORIAN
BEGIN:VEVENT
DTSTART:20160617T150000Z
DTEND:20160617T230000Z
X-MICROSOFT-CDO-ALLDAYEVENT:FALSE
SUMMARY:Free Fridays @ Massanutten Regional Library
DESCRIPTION:Youth (0-17) who have registered for MRL's summer reading program and wearing a Free Friday wristband may play one round of mini golf at Putter-A-Round Mini Golf when accompanied by a paying adult.
X-ALT-DESC;FMTTYPE=text/html:Youth (0-17) who have registered for MRL&#39\;s summer reading program and wearing a Free Friday wristband may play one round of mini golf at Putter-A-Round Mini Golf when accompanied by a paying adult.
LOCATION:Putter-A-Round
UID:e.2338.431
SEQUENCE:3
DTSTAMP:20260422T032532Z
URL:https://chamber.hrchamber.org/events/details/free-fridays-massanutten-regional-library-06-17-2016-431
END:VEVENT

END:VCALENDAR
