BEGIN:VCALENDAR
VERSION:2.0
PRODID:-//ChamberMaster//Event Calendar 2.0//EN
METHOD:PUBLISH
X-PUBLISHED-TTL:P3D
REFRESH-INTERVAL:P3D
CALSCALE:GREGORIAN
BEGIN:VEVENT
DTSTART:20160806T130000Z
DTEND:20160806T160000Z
X-MICROSOFT-CDO-ALLDAYEVENT:FALSE
SUMMARY:Free Community Shred Day F&M Bank Staunton
DESCRIPTION:Protect your identity and bring by your outdated documents for shredding.
X-ALT-DESC;FMTTYPE=text/html:Protect your identity and bring by your outdated documents for shredding.
LOCATION:F&M Bank Staunton\, VA 2813 North Augusta Street
UID:e.2338.443
SEQUENCE:3
DTSTAMP:20260422T004530Z
URL:https://chamber.hrchamber.org/events/details/free-community-shred-day-f-m-bank-staunton-08-06-2016-443
END:VEVENT

END:VCALENDAR
