BEGIN:VCALENDAR
VERSION:2.0
PRODID:-//ChamberMaster//Event Calendar 2.0//EN
METHOD:PUBLISH
X-PUBLISHED-TTL:P3D
REFRESH-INTERVAL:P3D
CALSCALE:GREGORIAN
BEGIN:VEVENT
DTSTART:20180414T143000Z
DTEND:20180414T153000Z
X-MICROSOFT-CDO-ALLDAYEVENT:FALSE
SUMMARY:For Goodness Snakes!
DESCRIPTION:Explore More Discovery Museum welcomes the Virginia Wildlife Center. Their presentation will discuss the physical and behavioral adaptations of snakes. Participants will meet live snakes that represent species living in our own backyards! Free with membership or paid admission.
X-ALT-DESC;FMTTYPE=text/html:Explore More Discovery Museum welcomes the Virginia Wildlife Center. Their presentation will discuss the physical and behavioral adaptations of snakes. Participants will meet live snakes that represent species living in our own backyards! Free with membership or paid admission.
LOCATION:Explore More Discovery Museum
UID:e.2338.3707
SEQUENCE:3
DTSTAMP:20260420T113701Z
URL:https://chamber.hrchamber.org/events/details/for-goodness-snakes-3707
END:VEVENT

END:VCALENDAR
