BEGIN:VCALENDAR
VERSION:2.0
PRODID:-//ChamberMaster//Event Calendar 2.0//EN
METHOD:PUBLISH
X-PUBLISHED-TTL:P3D
REFRESH-INTERVAL:P3D
CALSCALE:GREGORIAN
BEGIN:VEVENT
DTSTART;VALUE=DATE:20190515
DTEND;VALUE=DATE:20190526
TRANSP:TRANSPARENT
X-MICROSOFT-CDO-ALLDAYEVENT:TRUE
SUMMARY:Food for Fines Food Drive
DESCRIPTION:Erase overdue book fines and help address summer food insecurity during MRL's 13th annual "Food for Fines" food drive. From May 15 through May 25\, all branches of MRL will be collecting canned and boxed food items as well as non-food items such as toothpaste and paper towels. For library patrons with outstanding fines\, each donated item will erase $1.00 off overdue fines. No fines? No problem. All donations are welcome and will go to food pantries in the local community where each branch is located.
X-ALT-DESC;FMTTYPE=text/html:Erase overdue book fines and help address summer food insecurity during MRL&rsquo\;s 13<sup>th</sup> annual &ldquo\;Food for Fines&rdquo\; food drive. From May 15 through May 25\, all branches of MRL will be collecting canned and boxed food items as well as non-food items such as toothpaste and paper towels. For library patrons with outstanding fines\, each donated item will erase $1.00 off overdue fines. No fines? No problem. All donations are welcome and will go to food pantries in the local community where each branch is located.
LOCATION:All MRL Branches Bridgewater. Broadway. Elkton. Grottoes. Harrisonburg. Luray. Town of Shenandoah.
UID:e.2338.6597
SEQUENCE:3
DTSTAMP:20260419T225848Z
URL:https://chamber.hrchamber.org/events/details/food-for-fines-food-drive-6597
END:VEVENT

END:VCALENDAR
