BEGIN:VCALENDAR
VERSION:2.0
PRODID:-//ChamberMaster//Event Calendar 2.0//EN
METHOD:PUBLISH
X-PUBLISHED-TTL:P3D
REFRESH-INTERVAL:P3D
CALSCALE:GREGORIAN
BEGIN:VEVENT
DTSTART:20170401T180000Z
DTEND:20170401T213000Z
X-MICROSOFT-CDO-ALLDAYEVENT:FALSE
SUMMARY:Food 4 Thought: Downtown Trivia Crawl
DESCRIPTION:Join us for our second annual Food 4 Thought Downtown Trivia Crawl! You will be on a restaurant crawl answering trivia questions at each stop while doing a couple of fun scavenger hunt questions along the way as well! Teams of 4 will compete for fun and competitive prizes! All proceeds benefit Skyline Literacy\, a local nonprofit helping community families improve literacy skills. What a great way to support literacy in our community!!! Early Bird tickets are $20 per person or $60 for a team of 4 through March 28th! Beginning March 29th ticket prices go up to $25 per person and $80 for a team of 4! *Student prices are $10 per person or $40 for a team of 4* Check-in and awards will be at Capital Ale House Harrisonburg! Trivia crawl participating restaurants: Jess' Lunch.\, Ruby's Arcade\, Pale Fire Brewing Company and Bella Luna Wood-Fired Pizza. Check in begins at 1:45 at Capital Ale House! All participants must return to Capital Ale House with your trivia answers by 5pm. Answers will be judged and prizes awarded at 5:30. Stay tuned for more information! So far we have gift card prizes confirmed from: Food Bar Food\, Billy Jacks\, Jack Brown's\, Kline's\, Clementine\, Little Grill & The Friendly City Food Co-Op. Buy tickets here: https://www.eventbrite.com/e/food-4-thought-downtown-trivia-crawl-tickets-31900198352
X-ALT-DESC;FMTTYPE=text/html:Join us for our second annual Food 4 Thought Downtown Trivia Crawl! You will be on a restaurant crawl answering trivia questions at each stop while doing a couple of fun scavenger hunt questions along the way as well! Teams of 4 will compete for fun and competitive prizes! All proceeds benefit Skyline Literacy\, a local nonprofit helping community families improve literacy skills. What a great way to support literacy in our community!!! Early Bird tickets are $20 per person or $60 for a team of 4 through March 28th! Beginning March 29th ticket prices go up to $25 per person and $80 for a team of 4! *Student prices are $10 per person or $40 for a team of 4* Check-in and awards will be at Capital Ale House Harrisonburg! Trivia crawl participating restaurants: Jess&#39\; Lunch.\, Ruby&#39\;s Arcade\, Pale Fire Brewing Company and Bella Luna Wood-Fired Pizza. Check in begins at 1:45 at Capital Ale House! All participants must return to Capital Ale House with your trivia answers by 5pm. Answers will be judged and prizes awarded at 5:30. Stay tuned for more information! So far we have gift card prizes confirmed from: Food Bar Food\, Billy Jacks\, Jack Brown&#39\;s\, Kline&#39\;s\, Clementine\, Little Grill &amp\; The Friendly City Food Co-Op. Buy tickets here: https://www.eventbrite.com/e/food-4-thought-downtown-trivia-crawl-tickets-31900198352
LOCATION:Capital Ale House\, 41 Court Square Harrisonburg VA 22801
UID:e.2338.1552
SEQUENCE:3
DTSTAMP:20260421T121014Z
URL:https://chamber.hrchamber.org/events/details/food-4-thought-downtown-trivia-crawl-1552
END:VEVENT

END:VCALENDAR
