BEGIN:VCALENDAR
VERSION:2.0
PRODID:-//ChamberMaster//Event Calendar 2.0//EN
METHOD:PUBLISH
X-PUBLISHED-TTL:P3D
REFRESH-INTERVAL:P3D
CALSCALE:GREGORIAN
BEGIN:VEVENT
DTSTART:20180721T230000Z
DTEND:20180722T010000Z
X-MICROSOFT-CDO-ALLDAYEVENT:FALSE
SUMMARY:Flowers for Algernon By David Rogers
DESCRIPTION:Flowers for Algernon\n\nBy David Rogers\n\nBased on the novel by Daniel Keyes\n\nDirected by Richard Clem\n\nProduced by special arrangement with THE DRAMATIC PUBLISHING COMPANY of Woodstock\, Illinois\n\n\n\nThis is the compelling story of Charlie\, a mentally challenged man\, and the strange interweaving of his life with that of Algernon\, a mouse. Experimental surgery has been performed on Algernon\, increasing his intelligence fourfold. The operation is tried on Charlie\, who rapidly changes into a genius\, far more intelligent than his teacher\, Alice Kinnian\, or the doctors who created the operating technique. As Charlie approaches the peak of his brilliance\, Algernon shows frightening symptoms of regression. The play becomes a race against time in which Charlie tries to keep his new intelligence long enough to save himself and thus continue what he and Alice have found. This is a different kind of play: poignant\, romantic\, funny and tragic\, but with hope of man's indomitable spirit.
X-ALT-DESC;FMTTYPE=text/html:Flowers for Algernon<br />\nBy David Rogers<br />\nBased on the novel by Daniel Keyes<br />\nDirected by Richard Clem<br />\nProduced by special arrangement with THE DRAMATIC PUBLISHING COMPANY of Woodstock\, Illinois<br />\n<br />\nThis is the compelling story of Charlie\, a mentally challenged man\, and the strange interweaving of his life with that of Algernon\, a mouse. Experimental surgery has been performed on Algernon\, increasing his intelligence fourfold. The operation is tried on Charlie\, who rapidly changes into a genius\, far more intelligent than his teacher\, Alice Kinnian\, or the doctors who created the operating technique. As Charlie approaches the peak of his brilliance\, Algernon shows frightening symptoms of regression. The play becomes a race against time in which Charlie tries to keep his new intelligence long enough to save himself and thus continue what he and Alice have found. This is a different kind of play: poignant\, romantic\, funny and tragic\, but with hope of man&#39\;s indomitable spirit.
LOCATION:The Schultz Theatre and School of Performing Arts J. Frank Hillyard Auditorium 226 Hawks Hill Drive Broadway\, Virginia 22815
UID:e.2338.5876
SEQUENCE:3
DTSTAMP:20260420T133554Z
URL:https://chamber.hrchamber.org/events/details/flowers-for-algernon-by-david-rogers-07-21-2018-5876
END:VEVENT

END:VCALENDAR
