BEGIN:VCALENDAR
VERSION:2.0
PRODID:-//ChamberMaster//Event Calendar 2.0//EN
METHOD:PUBLISH
X-PUBLISHED-TTL:P3D
REFRESH-INTERVAL:P3D
CALSCALE:GREGORIAN
BEGIN:VEVENT
DTSTART:20171202T123000Z
DTEND:20171203T230000Z
X-MICROSOFT-CDO-ALLDAYEVENT:FALSE
SUMMARY:FIRST LEGO League State Championship Tournament
DESCRIPTION:Come check out the VA/DC FIRST LEGO League Championship Tournament! This event is free and open to the public. Watch teams compete with robotics and Legos!\n\n\n\nVolunteering\n\nVolunteers are currently needed for Dec. 2nd and/or 3rd. FIRST volunteers make a difference in the lives of young people\, helping them to discover the real-world value in science and technology. FIRST volunteers are people from all walks of life that come together to lead by example in the ways of science\, technology\, and citizenship. \n\n                                                  \n\nInterested in volunteering:\n\n1.     Available roles\, registration: FIRST volunteer resources and information\n\n2.     Click "Volunteer Registration" / upper right (create an acct w/FIRST\, then follow the process to Verified Volunteers\; payment of verification fee is optional)\n\n3.     Overview: Step by step guide on how to become a volunteer (pdf)\n\n\n\nAbout\n\nFIRST LEGO League introduces younger students to real-world engineering challenges by building LEGO-based robots to complete tasks on a thematic playing surface. Teams of up to ten kids participate in the challenge by programming an autonomous robot to score points on a themed playing field\, developing a solution to a problem they have identified\, all guided by the FIRST LEGO League Core Values.\n\n \n\nThe Challenge: Hydrodynamics\n\nOn your mark\, get set\, flow! Drink in the 2017/2018 HYDRO DYNAMICS season and learn all about water - how we find\, transport\, use\, or dispose of it. In the 2017/18 FIRST LEGO League Challenge\, students age 9 to 16 from 80 countries will make a splash with HYDRO DYNAMICS. What might become possible when we understand what happens to our water?\n\n\n\nFor more information and full schedule\, visit https://va-dcfll.org/2017-vadc-state-tournament/.
X-ALT-DESC;FMTTYPE=text/html:Come check out the VA/DC FIRST LEGO League Championship Tournament! This event is free and open to the public. Watch teams compete with robotics and Legos!<br />\n<br />\n<strong>Volunteering</strong><br />\nVolunteers are currently needed for Dec. 2<sup>nd</sup> and/or 3<sup>rd</sup>. FIRST&nbsp\;volunteers make a difference in the lives of young people\, helping them to discover the real-world value in science and technology.&nbsp\;FIRST&nbsp\;volunteers are people from all walks of life that come together to&nbsp\;lead by example in the ways of science\, technology\, and citizenship.&nbsp\;<br />\n&nbsp\;&nbsp\;&nbsp\;&nbsp\;&nbsp\;&nbsp\;&nbsp\;&nbsp\;&nbsp\;&nbsp\;&nbsp\;&nbsp\;&nbsp\;&nbsp\;&nbsp\;&nbsp\;&nbsp\;&nbsp\;&nbsp\;&nbsp\;&nbsp\;&nbsp\;&nbsp\;&nbsp\;&nbsp\;&nbsp\;&nbsp\;&nbsp\;&nbsp\;&nbsp\;&nbsp\;&nbsp\;&nbsp\;&nbsp\;&nbsp\;&nbsp\;&nbsp\;&nbsp\;&nbsp\;&nbsp\;&nbsp\;&nbsp\;&nbsp\;&nbsp\;&nbsp\;&nbsp\;&nbsp\;&nbsp\;&nbsp\;&nbsp\;<br />\n<span style="color:#222222">Interested in volunteering:</span><br />\n<span style="color:#222222">1.&nbsp\;&nbsp\;&nbsp\;&nbsp\; </span><span style="color:#222222">Available roles\, registration:&nbsp\;</span><span style="color:blue"><a href="https://www.firstinspires.org/node/3556"><span style="color:blue">FIRST volunteer resources and information</span></a></span><br />\n<span style="color:#222222">2.&nbsp\;&nbsp\;&nbsp\;&nbsp\; </span><span style="color:#222222">Click &quot\;Volunteer Registration&quot\; / upper right (create an acct w/FIRST\, then follow the process to Verified Volunteers\; payment of verification fee is&nbsp\;<em>optional</em>)</span><br />\n<span style="color:#222222">3.&nbsp\;&nbsp\;&nbsp\;&nbsp\; </span><span style="color:#222222">Overview</span><span style="color:#222222">:&nbsp\;</span><span style="color:blue"><a href="https://www.firstinspires.org/sites/default/files/uploads/resource_library/volunteer/volunteer-registration-step-by-step-guide.pdf"><span style="color:blue">Step by step guide on how to become a volunteer (pdf)</span></a></span><br />\n<br />\n<strong>About</strong><br />\nFIRST LEGO League introduces younger students to real-world engineering challenges by building LEGO-based robots to complete tasks on a thematic playing surface.&nbsp\;Teams of up to ten kids&nbsp\;participate in the challenge by programming an autonomous robot to score points on a themed playing field\, developing a solution to a problem they have identified\, all guided by the&nbsp\;FIRST&nbsp\;LEGO League&nbsp\;Core Values.<br />\n&nbsp\;<br />\n<strong>The Challenge: Hydrodynamics</strong><br />\nOn your mark\, get set\, flow! Drink in the 2017/2018 HYDRO DYNAMICS season and learn all about water - how we find\, transport\, use\, or dispose of it. In the 2017/18 FIRST LEGO League Challenge\, students age 9 to 16 from 80 countries will make a splash with HYDRO DYNAMICS. What might become possible when we understand what happens to our water?<br />\n<br />\nFor more information and full schedule\, visit&nbsp\;<span style="color:blue"><a href="https://va-dcfll.org/2017-vadc-state-tournament/" title="FLL State Championship Info"><span style="color:blue">https://va-dcfll.org/2017-vadc-state-tournament/</span></a>.</span>
LOCATION:JMU Memorial Hall on Dec. 2 Harrisonburg High School on Dec. 3
UID:e.2338.3335
SEQUENCE:3
DTSTAMP:20260420T055004Z
URL:https://chamber.hrchamber.org/events/details/first-lego-league-state-championship-tournament-3335
END:VEVENT

END:VCALENDAR
