BEGIN:VCALENDAR
VERSION:2.0
PRODID:-//ChamberMaster//Event Calendar 2.0//EN
METHOD:PUBLISH
X-PUBLISHED-TTL:P3D
REFRESH-INTERVAL:P3D
CALSCALE:GREGORIAN
BEGIN:VEVENT
DTSTART:20181103T120000Z
DTEND:20181103T210000Z
X-MICROSOFT-CDO-ALLDAYEVENT:FALSE
SUMMARY:FIRST LEGO League Regional Tournament 2018
DESCRIPTION:Volunteers Needed!\n\nPrepare for excitement\, robotics\, and LEGOS! Just a few hours of your time can have a huge impact! To sign up as a volunteer\, please complete the following form: Harrisonburg Regional FLL Tournament Volunteers.\n\n\n\nHave a child interested in robotics? Come see whats up!\n\nThis event is free and open to the public! Interested in starting an FLL team but would like to see how the competitions work first? Then come by and take a look. We invite both adults and children to attend the event to see what it's all about! \n\n\n\n2018 Challenge: Into Orbit\n\nJoin FLL's mission into the 30th season of FIRST ! Prepare for blast off\, break out of your earthly constraints and go INTO ORBITSM. The 2018/2019 FIRST  LEGO  League season will transport FLL teams into space\, where kids will explore\, challenge\, and innovate in the vast expanse of space.\n\nFIRST LEGO League challenges kids to think like scientists and engineers. During the INTO ORBIT season\, teams will choose and solve a real-world problem in the Project. They will also build\, test\, and program an autonomous robot using LEGO  MINDSTORMS  technology to solve a set of missions in the Robot Game. Throughout their experience\, teams will operate under the FIRST signature set of Core Values\, celebrating discovery\, teamwork\, and Gracious Professionalism \n\nFor more information\, visit https://va-dcfll.org/about-us/
X-ALT-DESC;FMTTYPE=text/html:<div>\n<p><strong>Volunteers Needed!</strong><br />\nPrepare for excitement\, robotics\, and LEGOS! Just a few hours of your time can have a huge impact! To sign up as a volunteer\, please complete the following form:&nbsp\;<a href="https://docs.google.com/forms/d/e/1FAIpQLSeUIxMXo76z9BV5RkLH6uOtkgkIuHksep1FDTZfSSP8flHKpw/viewform" rel="noopener" style="color: rgb(255\, 159\, 25)\; box-sizing: border-box\; margin: 0px\; padding: 0px\; border: 0px rgb(225\, 225\, 225)\; font-style: inherit\; font-variant: inherit\; font-weight: inherit\; font-stretch: inherit\; font-size: inherit\; line-height: inherit\; vertical-align: baseline\; outline: 0px\; max-width: 100%\;" target="_blank">Harrisonburg Regional FLL Tournament Volunteers</a>.<br />\n<br />\n<strong>Have a child interested in robotics? Come see whats up!</strong><br />\nThis event is free and open to the public! Interested in starting an FLL team but would like to see how the competitions work first? Then come by and take a look. We invite both adults and children to attend the event to see what it&#39\;s all about!&nbsp\;</p>\n</div>\n\n<div>\n<p><strong>2018 Challenge: Into Orbit</strong><br />\nJoin FLL&rsquo\;s mission into the 30th&nbsp\;season of&nbsp\;FIRST&reg\;! Prepare for blast off\, break out of your earthly constraints and go INTO ORBITSM. The 2018/2019&nbsp\;FIRST&reg\;&nbsp\;LEGO&reg\;&nbsp\;League season will transport FLL teams into space\, where kids will explore\, challenge\, and innovate in the vast expanse of space.</p>\n\n<div>FIRST&nbsp\;LEGO League challenges kids to think like scientists and engineers. During the INTO ORBIT&nbsp\;season\, teams will choose and solve a real-world problem in the Project. They will also build\, test\, and program an autonomous robot using LEGO&reg\;&nbsp\;MINDSTORMS&reg\;&nbsp\;technology to solve a set of missions in the Robot Game. Throughout their experience\, teams will operate under the&nbsp\;FIRST&nbsp\;signature set of Core Values\, celebrating discovery\, teamwork\, and Gracious Professionalism&reg\;</div>\n\n<p>For more information\, visit&nbsp\;<a href="https://va-dcfll.org/about-us/" rel="noopener" style="color: rgb(255\, 159\, 25)\; box-sizing: border-box\; margin: 0px\; padding: 0px\; border: 0px rgb(225\, 225\, 225)\; font-style: inherit\; font-variant: inherit\; font-weight: inherit\; font-stretch: inherit\; font-size: inherit\; line-height: inherit\; vertical-align: baseline\; outline: 0px\; max-width: 100%\;" target="_blank">https://va-dcfll.org/about-us/</a></p>\n</div>\n
LOCATION:JMU ISAT-CS Building 701 Carrier Drive Harrisonburg\, VA 22807
UID:e.2338.5996
SEQUENCE:3
DTSTAMP:20260420T075001Z
URL:https://chamber.hrchamber.org/events/details/first-lego-league-regional-tournament-2018-5996
END:VEVENT

END:VCALENDAR
