BEGIN:VCALENDAR
VERSION:2.0
PRODID:-//ChamberMaster//Event Calendar 2.0//EN
METHOD:PUBLISH
X-PUBLISHED-TTL:P3D
REFRESH-INTERVAL:P3D
CALSCALE:GREGORIAN
BEGIN:VEVENT
DTSTART:20171104T120000Z
DTEND:20171104T210000Z
X-MICROSOFT-CDO-ALLDAYEVENT:FALSE
SUMMARY:First Lego League Harrisonburg Regional Tournament
DESCRIPTION:This event is free and open to the public! Watch teams compete with robotics and Legos!\n\n2017 Challenge: Hydrodynamics\n\nOn your mark\, get set\, flow! Drink in the 2017/2018 HYDRO DYNAMICSSM season and learn all about water   how we find\, transport\, use\, or dispose of it. In the 2017/18 FIRST  LEGO  League Challenge\, students age 9 to 16 from 80 countries will make a splash with HYDRO DYNAMICS. What might become possible when we understand what happens to our water?\n\n\n\nFIRST  LEGO  League challenges kids to think like scientists and engineers. During the HYDRO DYNAMICSSM season\, teams will choose and solve a real-world problem in the Project. They will also build\, test\, and program an autonomous robot using LEGO  MINDSTORMS  technology to solve a set of missions in the Robot Game. Throughout their experience\, teams will operate under the FIRST LEGO League signature set of Core Values\, celebrating discovery\, teamwork\, and Gracious Professionalism \n\nFor more information\, visit svtc-va.org.
X-ALT-DESC;FMTTYPE=text/html:<p>This event is free and open to the public! Watch teams compete with robotics and Legos!</p>\n\n<p><strong>2017 Challenge: Hydrodynamics</strong><br />\nOn your mark\, get set\, flow! Drink in the 2017/2018 HYDRO DYNAMICSSM season and learn all about water &ndash\; how we find\, transport\, use\, or dispose of it. In the 2017/18 FIRST&reg\; LEGO&reg\; League Challenge\, students age 9 to 16 from 80 countries will make a splash with HYDRO DYNAMICS. What might become possible when we understand what happens to our water?<br />\n<br />\nFIRST&reg\; LEGO&reg\; League challenges kids to think like scientists and engineers. During the HYDRO DYNAMICSSM season\, teams will choose and solve a real-world problem in the Project. They will also build\, test\, and program an autonomous robot using LEGO&reg\; MINDSTORMS&reg\; technology to solve a set of missions in the Robot Game. Throughout their experience\, teams will operate under the FIRST LEGO League signature set of Core Values\, celebrating discovery\, teamwork\, and Gracious Professionalism&reg\;</p>\n\n<p>For more information\, visit&nbsp\;<a href="http://www.svtc-va.org/calendar.php?content=getEventDetails&amp\;eventID=695">svtc-va.org</a>.</p>\n
LOCATION:JMU ISAT-CS Building 701 Carrier Drive Harrisonburg\, VA 22807
UID:e.2338.3298
SEQUENCE:3
DTSTAMP:20260420T055211Z
URL:https://chamber.hrchamber.org/events/details/first-lego-league-harrisonburg-regional-tournament-3298
END:VEVENT

END:VCALENDAR
