BEGIN:VCALENDAR
VERSION:2.0
PRODID:-//ChamberMaster//Event Calendar 2.0//EN
METHOD:PUBLISH
X-PUBLISHED-TTL:P3D
REFRESH-INTERVAL:P3D
CALSCALE:GREGORIAN
BEGIN:VEVENT
DTSTART:20170707T210000Z
DTEND:20170708T000000Z
X-MICROSOFT-CDO-ALLDAYEVENT:FALSE
SUMMARY:First Fridays Downtown
DESCRIPTION:July's First Fridays Downtown will be this Friday\, July 7 from 5-8 PM. Stroll the streets of downtown Harrisonburg and enjoy various artistic and musical performances at over 30 participating shops and businesses. This Friday\, kick off your weekend in a free and family-friendly way while supporting the arts and artisans of your local community! First Fridays Downtown is presented with generous support from Union Bank.
X-ALT-DESC;FMTTYPE=text/html:July&#39\;s First Fridays Downtown will be this Friday\, July 7 from 5-8 PM. Stroll the streets of downtown Harrisonburg and enjoy various artistic and musical performances at over 30 participating shops and businesses. This Friday\, kick off your weekend in a free and family-friendly way while supporting the arts and artisans of your local community! First Fridays Downtown is presented with generous support from Union Bank.
LOCATION:See list of First Fridays Downtown participating venues online at valleyarts.org
UID:e.2338.3152
SEQUENCE:3
DTSTAMP:20260419T220720Z
URL:https://chamber.hrchamber.org/events/details/first-fridays-downtown-3152
END:VEVENT

END:VCALENDAR
