BEGIN:VCALENDAR
VERSION:2.0
PRODID:-//ChamberMaster//Event Calendar 2.0//EN
METHOD:PUBLISH
X-PUBLISHED-TTL:P3D
REFRESH-INTERVAL:P3D
CALSCALE:GREGORIAN
BEGIN:VEVENT
DTSTART:20181005T210000Z
DTEND:20181005T230000Z
X-MICROSOFT-CDO-ALLDAYEVENT:FALSE
SUMMARY:First Friday Reception - Shenandoah Valley Watercolor Society Show
DESCRIPTION:Enjoy the 32nd Annual Shenandoah Valley Watercolor Society Member Show
X-ALT-DESC;FMTTYPE=text/html:Enjoy the 32nd Annual Shenandoah Valley Watercolor Society Member Show
LOCATION:Park Gables Gallery/VMRC 1491 Virginia Ave.\, Harrisonburg
UID:e.2338.6053
SEQUENCE:3
DTSTAMP:20260420T091520Z
URL:https://chamber.hrchamber.org/events/details/first-friday-reception-shenandoah-valley-watercolor-society-show-6053
END:VEVENT

END:VCALENDAR
