BEGIN:VCALENDAR
VERSION:2.0
PRODID:-//ChamberMaster//Event Calendar 2.0//EN
METHOD:PUBLISH
X-PUBLISHED-TTL:P3D
REFRESH-INTERVAL:P3D
CALSCALE:GREGORIAN
BEGIN:VEVENT
DTSTART:20170908T130000Z
DTEND:20170909T000000Z
X-MICROSOFT-CDO-ALLDAYEVENT:FALSE
SUMMARY:Fine Furnishings Estate Auction at Green Valley Auctions
DESCRIPTION:A fun\, family-friendly way to spend a Friday evening.\n\n\n\nCome see us for a great fine furnishings auction featuring like-new furniture by Henkel Harris\, Suters\, Clore\, and Theodore Alexander\; John Heatwole carvings\; 20 tactical firearms plus lot ammunition\; lot new and like-new electronics by Bose\, Epson and Canon\; Nikon DSLR digital cameras\; new and like-new Honda Generators\; Stihl weedeaters\; Graco GH200 gas airless sprayer\; outdoor camping gear\; charcoal grills\; plus much\, much more! \n\n\n\nVisit http://www.greenvalleyauctions.com/venue-events/september-8-2017-estate-auction-2/  for a detailed listing.\n\n\n\nDelicious\, homemade food on-site by Our Daily Bread Catering. \n\n\n\nAuction Preview Thursday\, September 7\, 1:00-4:00 p.m.
X-ALT-DESC;FMTTYPE=text/html:<strong>A fun\, family-friendly way to spend a Friday evening.</strong><br />\n<br />\nCome see us for a great fine furnishings auction featuring like-new furniture by Henkel Harris\, Suters\, Clore\, and Theodore Alexander\; John Heatwole carvings\; 20 tactical firearms plus lot ammunition\; lot new and like-new electronics by Bose\, Epson and Canon\; Nikon DSLR digital cameras\; new and like-new Honda Generators\; Stihl weedeaters\; Graco GH200 gas airless sprayer\; outdoor camping gear\; charcoal grills\; plus much\, much more!&nbsp\;<br />\n<br />\nVisit&nbsp\;<a href="http://www.greenvalleyauctions.com/venue-events/september-8-2017-estate-auction-2/">http://www.greenvalleyauctions.com/venue-events/september-8-2017-estate-auction-2/</a>&nbsp\; for a detailed listing.<br />\n<br />\n<strong>Delicious\, homemade food on-site by Our Daily Bread Catering.</strong>&nbsp\;<br />\n<br />\n<strong>Auction Preview Thursday\, September 7\, 1:00-4:00 p.m.</strong>
LOCATION:Green Valley Auctions 2259 Green Valley Lane Mt. Crawford\, VA 22841
UID:e.2338.3233
SEQUENCE:3
DTSTAMP:20260420T011704Z
URL:https://chamber.hrchamber.org/events/details/fine-furnishings-estate-auction-at-green-valley-auctions-3233
END:VEVENT

END:VCALENDAR
