BEGIN:VCALENDAR
VERSION:2.0
PRODID:-//ChamberMaster//Event Calendar 2.0//EN
METHOD:PUBLISH
X-PUBLISHED-TTL:P3D
REFRESH-INTERVAL:P3D
CALSCALE:GREGORIAN
BEGIN:VEVENT
DTSTART:20180119T140000Z
DTEND:20180120T010000Z
X-MICROSOFT-CDO-ALLDAYEVENT:FALSE
SUMMARY:Fine Furnishings Estate Auction at Green Valley Auctions
DESCRIPTION:Large fine furnishings auction featuring Clore\, Drexel\, king size sleigh bed\, Beverly sofa and chairs\, King Ranch Southwestern chair\, Remington Mountain Man bronze\, Mort Kunstler Civil War prints\, Waterford crystal\, clock collection\, large 2-door wine cooler\, Smith Hawken copper cookware\, art books\, Echo and Shindaiwa power equipment\, plus more.\n\n\n\nFurnish your home for less!\n\n\n\nVisit our website or follow us on Facebook for more information!
X-ALT-DESC;FMTTYPE=text/html:<span style="font-family:open sans\; font-size:20px"><span style="font-family:times new roman">Large fine furnishings auction featuring Clore\, Drexel\, king size sleigh bed\, Beverly sofa and chairs\, King Ranch Southwestern chair\, Remington Mountain Man bronze\, Mort Kunstler Civil War prints\, Waterford crystal\, clock collection\, large 2-door wine cooler\, Smith Hawken copper cookware\, art books\, Echo and Shindaiwa power equipment\, plus more.<br />\n<br />\n<em>Furnish your home for less!</em></span><br />\n<br />\nVisit our website or follow us on Facebook for more information!</span>
LOCATION:Green Valley Auctions 2259 Green Valley Lane Mt. Crawford\, VA 22841
UID:e.2338.3582
SEQUENCE:3
DTSTAMP:20260420T073209Z
URL:https://chamber.hrchamber.org/events/details/fine-furnishings-estate-auction-at-green-valley-auctions-01-19-2018-3582
END:VEVENT

END:VCALENDAR
