BEGIN:VCALENDAR
VERSION:2.0
PRODID:-//ChamberMaster//Event Calendar 2.0//EN
METHOD:PUBLISH
X-PUBLISHED-TTL:P3D
REFRESH-INTERVAL:P3D
CALSCALE:GREGORIAN
BEGIN:VEVENT
DTSTART:20171208T140000Z
DTEND:20171209T010000Z
X-MICROSOFT-CDO-ALLDAYEVENT:FALSE
SUMMARY:Final Estate Auction of 2017 at Green Valley Auctions
DESCRIPTION:Estate Auction at Green Valley Auctions\n\nCome to our last auction of 2017!\n\nFrom the Grove estate\; The Caplinger & Brakke homes\, Harrisonburg\; A Charlottesville home\; Plus others. \n\n\nFeaturing fine furnishings including Thomasville\, Ethan Allen\, Hickory Hill and more\; TVs and stereos by Sony\, Polk\, Acoustic Research\, and others\; Tools and outdoors supplies\; Plus more. \n\n\n\nCome eat lunch during our Preview on Thursday from 11:00-4:00!
X-ALT-DESC;FMTTYPE=text/html:<h1>Estate Auction at Green Valley Auctions</h1>\n\n<h2>Come to our last auction of 2017!</h2>\n\n<h3>From the Grove estate\; The Caplinger &amp\; Brakke homes\, Harrisonburg\; A Charlottesville home\; Plus others.&nbsp\;</h3>\n<br />\nFeaturing fine furnishings including Thomasville\, Ethan Allen\, Hickory Hill and more\; TVs and stereos by Sony\, Polk\, Acoustic Research\, and others\; Tools and outdoors supplies\; Plus more.&nbsp\;<br />\n<br />\n<em>Come eat lunch during our Preview on Thursday from 11:00-4:00!</em><br />\n&nbsp\;
LOCATION:Green Valley Auctions 2259 Green Valley Lane Mt. Crawford\, VA 22841
UID:e.2338.3357
SEQUENCE:3
DTSTAMP:20260420T055047Z
URL:https://chamber.hrchamber.org/events/details/final-estate-auction-of-2017-at-green-valley-auctions-3357
END:VEVENT

END:VCALENDAR
