BEGIN:VCALENDAR
VERSION:2.0
PRODID:-//ChamberMaster//Event Calendar 2.0//EN
METHOD:PUBLISH
X-PUBLISHED-TTL:P3D
REFRESH-INTERVAL:P3D
CALSCALE:GREGORIAN
BEGIN:VEVENT
DTSTART:20190609T190000Z
DTEND:20190609T210000Z
X-MICROSOFT-CDO-ALLDAYEVENT:FALSE
SUMMARY:Shenandoah Valley Bach Festival Concert 1
DESCRIPTION:Creation is the theme of the 27th annual Shenandoah Valley Bach Festival\, to be held in Harrisonburg June 9-16\, 2019. This opening concert features Artistic Director Kenneth Nafziger leading the Festival Orchestra and soloists in works by Bach and Haydn. Soloists from within the orchestra are joined by recorder player Sian Ricketts\, trumpeter Phillip Chase Hawkins\, and pianist David Berry. A pre-concert talk by Artistic Director Kenneth Nafziger begins at 2:15pm.\n\n\n\nTickets: $27   Adults\, $22   Seniors (65+)\, $15 Youth (22 & under)\n\nMulti-concert discounts and group rates available.  All tickets $2 higher at the door.\n\nPurchase at www.svbachfestival.org or call the EMU Box Office (540) 432-4582
X-ALT-DESC;FMTTYPE=text/html:Creation is the theme of the 27th annual Shenandoah Valley Bach Festival\, to be held in Harrisonburg June 9-16\, 2019. This opening concert features Artistic Director Kenneth Nafziger leading the Festival Orchestra and soloists in works by Bach and Haydn. Soloists from within the orchestra are joined by recorder player Sian Ricketts\, trumpeter Phillip Chase Hawkins\, and pianist David Berry. A pre-concert talk by Artistic Director Kenneth Nafziger begins at 2:15pm.<br />\n<br />\nTickets: $27 &ndash\; Adults\, $22 &ndash\; Seniors (65+)\, $15 Youth (22 &amp\; under)<br />\nMulti-concert discounts and group rates available.&nbsp\; All tickets $2 higher at the door.<br />\nPurchase at www.svbachfestival.org or call the EMU Box Office (540) 432-4582
LOCATION:Lehman Auditorium\, EMU Campus 1200 Park Road Harrisonburg VA 22802
UID:e.2338.6345
SEQUENCE:3
DTSTAMP:20260419T211156Z
URL:https://chamber.hrchamber.org/events/details/festival-concert-1-6345
END:VEVENT

END:VCALENDAR
