BEGIN:VCALENDAR
VERSION:2.0
PRODID:-//ChamberMaster//Event Calendar 2.0//EN
METHOD:PUBLISH
X-PUBLISHED-TTL:P3D
REFRESH-INTERVAL:P3D
CALSCALE:GREGORIAN
BEGIN:VEVENT
DTSTART:20180617T160000Z
DTEND:20180617T200000Z
X-MICROSOFT-CDO-ALLDAYEVENT:FALSE
SUMMARY:Father's Day Bloodmobile Drive at Heritage Oaks Golf Course
DESCRIPTION:Heritage Oaks Golf Course is hosting a Father's Day bloodmobile drive on Sunday\, June 17th from noon to 4 pm.  Donors receive a thank-you water bottle\, while supplies last   and all donors will be entered to win a round of golf plus cart rental!  Walk-ins are welcome\, but appointments are encouraged.  To secure your spot\, visit https://donateblood.vablood.org.  Share your health and help save lives!
X-ALT-DESC;FMTTYPE=text/html:Heritage Oaks Golf Course is hosting a Father&rsquo\;s Day bloodmobile drive on Sunday\, June 17<sup>th</sup> from noon to 4 pm.&nbsp\; Donors receive a thank-you water bottle\, while supplies last &ndash\; and all donors will be entered to win a round of golf plus cart rental!&nbsp\; Walk-ins are welcome\, but appointments are encouraged.&nbsp\; To secure your spot\, visit <a href="https://donateblood.vablood.org/">https://donateblood.vablood.org</a>. <span style="color:black">&nbsp\;Share your health and help save lives!</span>
LOCATION:Heritage Oaks Golf Course 680 Garbers Church Road Harrisonburg VA 22801
UID:e.2338.5851
SEQUENCE:3
DTSTAMP:20260420T151155Z
URL:https://chamber.hrchamber.org/events/details/father-s-day-bloodmobile-drive-at-heritage-oaks-golf-course-5851
END:VEVENT

END:VCALENDAR
