BEGIN:VCALENDAR
VERSION:2.0
PRODID:-//ChamberMaster//Event Calendar 2.0//EN
METHOD:PUBLISH
X-PUBLISHED-TTL:P3D
REFRESH-INTERVAL:P3D
CALSCALE:GREGORIAN
BEGIN:VEVENT
DTSTART:20190409T230000Z
DTEND:20190410T003000Z
X-MICROSOFT-CDO-ALLDAYEVENT:FALSE
SUMMARY:Fascia & Female Health Seminar
DESCRIPTION:Fascia & Female Health Seminar\n\nGreat for women and girls all ages\, including athletes! \n\nWe will cover many issues that females deal with during the course of their lives and provide alternatives for caring for your needs.\n\n\n\nPlease call (540)209-8977 or (540)901-9501 to reserve your seat.\n\n\n\nComplimentary 15 minute screenings with our physical therapists are available before the seminar.
X-ALT-DESC;FMTTYPE=text/html:Fascia &amp\; Female Health Seminar<br />\nGreat for women and girls all ages\, including athletes!&nbsp\;<br />\nWe will cover many issues that females deal with during the course of their lives and provide alternatives for caring for your needs.<br />\n<br />\nPlease call (540)209-8977 or (540)901-9501 to reserve your seat.<br />\n<br />\nComplimentary 15 minute screenings with our physical therapists are available before the seminar.
LOCATION:Appalachian Physical Therapy (Harrisonburg location) Located between Kohl's and Marin's Super Market 2035 E Market St Suite 45 Harrisonburg\, VA 22801
UID:e.2338.6508
SEQUENCE:3
DTSTAMP:20260420T002628Z
URL:https://chamber.hrchamber.org/events/details/fasci-female-health-seminar-6508
END:VEVENT

END:VCALENDAR
