BEGIN:VCALENDAR
VERSION:2.0
PRODID:-//ChamberMaster//Event Calendar 2.0//EN
METHOD:PUBLISH
X-PUBLISHED-TTL:P3D
REFRESH-INTERVAL:P3D
CALSCALE:GREGORIAN
BEGIN:VEVENT
DTSTART:20180630T133000Z
DTEND:20180630T170000Z
X-MICROSOFT-CDO-ALLDAYEVENT:FALSE
SUMMARY:Farm to City Day
DESCRIPTION:Come to the Farm to City Day to explore more with dairy! At the Museum\, you'll experience cows\, dairy\, and farm equipment. Free Admission for all to our Farm Day celebration! Children and families visit with a live cow and her calf\, answer dairy trivia and win prizes\, make cheese and butter\, create farm crafts\,explore large farm equipment and more! Families will experience production agriculture close up.
X-ALT-DESC;FMTTYPE=text/html:Come to the Farm to City Day to explore more with dairy! At the Museum\, you&rsquo\;ll experience cows\, dairy\, and farm equipment. Free Admission for all to our Farm Day celebration! Children and families visit with a live cow and her calf\, answer dairy trivia and win prizes\, make cheese and butter\, create farm crafts\,explore large farm equipment and more! Families will experience production agriculture close up.
LOCATION:Explore More Discovery Museum 150 South Main Street Harrisonburg\, VA\, 22801
UID:e.2338.3710
SEQUENCE:3
DTSTAMP:20260420T151112Z
URL:https://chamber.hrchamber.org/events/details/farm-to-city-day-3710
END:VEVENT

END:VCALENDAR
