BEGIN:VCALENDAR
VERSION:2.0
PRODID:-//ChamberMaster//Event Calendar 2.0//EN
METHOD:PUBLISH
X-PUBLISHED-TTL:P3D
REFRESH-INTERVAL:P3D
CALSCALE:GREGORIAN
BEGIN:VEVENT
DTSTART:20180518T210000Z
DTEND:20180518T230000Z
X-MICROSOFT-CDO-ALLDAYEVENT:FALSE
SUMMARY:Family Life Resource Center Open House Fundraiser
DESCRIPTION:This open house fundraiser will feature a Power Parenting Presentation and a Self Care/Relaxation Technique Seminar taught by one of our trained counselors\, meet and greet with a certified therapy dog\, face painting in our children's therapy room and live music by Lisa Meadows.  This is a great time to meet our staff and tour the building.  We will also sell raffle tickets before and at the event for a men's gift basket\, a women's gift basket\, and a child's gift basket. (All baskets will be raffled separately.)\n\n \n\nPlease help us plan accordingly by letting us know you will be stopping by: RSVP to marie@flrc.org or 540-434-8450 by Wednesday\, May 9th \n\n\n\n5:00   7:00 PM (Stop in Anytime)\n\nLive Music performed by Lisa Meadows (feel free to bring lawn chair)\n\nTour The Building/Meet The Staff\n\nFace Painting (Adults & Children)\n\nEnjoy Light Refreshments\n\nMeet the Therapy Dog\n\nPurchase Raffle Tickets\n\n \n\n5:15   5:30 PM  Power Parenting Presentation*\n\n*Space is Limited-Reserve in Advance\n\n6:15   6:30 PM- Relaxation Techniques/Self Care Seminar*\n\n*Space is Limited- *Reserve in Advance
X-ALT-DESC;FMTTYPE=text/html:&nbsp\;<strong><span style="color:#611616"><span style="font-size:12.0pt">This open house fundraiser will feature a Power Parenting Presentation and a Self Care/Relaxation Technique Seminar taught by one of our trained counselors\, meet and greet with a certified therapy dog\, face painting in our children&rsquo\;s therapy room and live music by Lisa Meadows.&nbsp\; This is a great time to meet our staff and tour the building</span></span></strong><strong><span style="font-family:arial\,sans-serif"><span style="font-size:12.0pt">.&nbsp\; </span></span></strong><strong><span style="color:#611616"><span style="font-size:12.0pt">We will also sell raffle tickets before and at the event for a men&rsquo\;s gift basket\, a women&rsquo\;s gift basket\, and a child&rsquo\;s gift basket. (All baskets will be raffled separately.)</span></span></strong><br />\n&nbsp\;<br />\n<strong><em><span style="color:#912122"><span style="font-size:14.0pt">Please help us plan accordingly by letting us know you will be stopping by: </span></span></em></strong><strong><em><span style="color:#912122"><span style="font-size:14.0pt">RSVP to </span></span></em></strong><a href="mailto:marie@flrc.org"><strong><em><span style="color:#912122"><span style="font-size:14.0pt">marie@flrc.org</span></span></em></strong></a><strong><em><span style="color:#912122"><span style="font-size:14.0pt"> or 540-434-8450 by Wednesday\, May 9th</span></span></em></strong>&nbsp\;<br />\n<br />\n<span style="font-size:14.0pt">5:00 &ndash\; 7:00 PM (Stop in Anytime)</span><br />\n<span style="font-size:14.0pt">Live Music performed by Lisa Meadows </span><span style="font-size:9.0pt">(feel free to bring lawn chair)</span><br />\n<span style="font-size:14.0pt">Tour The Building/Meet The Staff</span><br />\n<span style="font-size:14.0pt">Face Painting (Adults &amp\; Children)</span><br />\n<span style="font-size:14.0pt">Enjoy Light Refreshments</span><br />\n<span style="font-size:14.0pt">Meet the Therapy Dog</span><br />\n<span style="font-size:14.0pt">Purchase Raffle Tickets</span><br />\n&nbsp\;<br />\n<span style="font-size:14.0pt">5:15 &ndash\; 5:30 PM &ndash\;Power Parenting Presentation*</span><br />\n<span style="font-size:14.0pt">*Space is Limited-Reserve in Advance</span><br />\n<span style="font-size:14.0pt">6:15 &ndash\; 6:30 PM- Relaxation Techniques/Self Care Seminar*</span><br />\n<span style="font-size:14.0pt">*Space is Limited- *Reserve in Advance </span><br />\n&nbsp\;
LOCATION:273 Newman Avenue Harrisonburg\, VA 22801
UID:e.2338.5782
SEQUENCE:3
DTSTAMP:20260420T131753Z
URL:https://chamber.hrchamber.org/events/details/family-life-resource-center-open-house-fundraiser-5782
END:VEVENT

END:VCALENDAR
