BEGIN:VCALENDAR
VERSION:2.0
PRODID:-//ChamberMaster//Event Calendar 2.0//EN
METHOD:PUBLISH
X-PUBLISHED-TTL:P3D
REFRESH-INTERVAL:P3D
CALSCALE:GREGORIAN
BEGIN:VEVENT
DTSTART:20160611T163000Z
DTEND:20160611T183000Z
X-MICROSOFT-CDO-ALLDAYEVENT:FALSE
SUMMARY:F&M Bank Timberville Shred Day
DESCRIPTION:Protect your identity and shred your personal documents for free at our shred day!
X-ALT-DESC;FMTTYPE=text/html:Protect your identity and shred your personal documents for free at our shred day!
LOCATION:205 S Main Street Timberville\, VA 22853
UID:e.2338.427
SEQUENCE:3
DTSTAMP:20260422T032655Z
URL:https://chamber.hrchamber.org/events/details/f-m-bank-timberville-shred-day-06-11-2016-427
END:VEVENT

END:VCALENDAR
