BEGIN:VCALENDAR
VERSION:2.0
PRODID:-//ChamberMaster//Event Calendar 2.0//EN
METHOD:PUBLISH
X-PUBLISHED-TTL:P3D
REFRESH-INTERVAL:P3D
CALSCALE:GREGORIAN
BEGIN:VEVENT
DTSTART:20180222T210000Z
DTEND:20180222T230000Z
X-MICROSOFT-CDO-ALLDAYEVENT:FALSE
SUMMARY:F&M Bank-Timberville Ribbon Cutting & Grand Opening Celebration
DESCRIPTION:
X-ALT-DESC;FMTTYPE=text/html:
LOCATION:165 New Market Road\, Timberville
UID:e.2338.3581
SEQUENCE:3
DTSTAMP:20260420T090211Z
URL:https://chamber.hrchamber.org/events/details/f-m-bank-timberville-ribbon-cutting-grand-opening-celebration-3581
END:VEVENT

END:VCALENDAR
