BEGIN:VCALENDAR
VERSION:2.0
PRODID:-//ChamberMaster//Event Calendar 2.0//EN
METHOD:PUBLISH
X-PUBLISHED-TTL:P3D
REFRESH-INTERVAL:P3D
CALSCALE:GREGORIAN
BEGIN:VEVENT
DTSTART:20161209T200000Z
DTEND:20161209T220000Z
X-MICROSOFT-CDO-ALLDAYEVENT:FALSE
SUMMARY:F&M Bank Timberville Family Fun Day
DESCRIPTION:Santa Claus is coming to Timberville! Take your picture with Santa and enjoy refreshments and giveaways!
X-ALT-DESC;FMTTYPE=text/html:Santa Claus is coming to Timberville! Take your picture with Santa and enjoy refreshments and giveaways!
LOCATION:205 S Main Street\, Timberville
UID:e.2338.1513
SEQUENCE:3
DTSTAMP:20260421T191455Z
URL:https://chamber.hrchamber.org/events/details/f-m-bank-timberville-family-fun-day-1513
END:VEVENT

END:VCALENDAR
