BEGIN:VCALENDAR
VERSION:2.0
PRODID:-//ChamberMaster//Event Calendar 2.0//EN
METHOD:PUBLISH
X-PUBLISHED-TTL:P3D
REFRESH-INTERVAL:P3D
CALSCALE:GREGORIAN
BEGIN:VEVENT
DTSTART:20210416T180000Z
DTEND:20210416T210000Z
X-MICROSOFT-CDO-ALLDAYEVENT:FALSE
SUMMARY:F&M Bank Shred Day - Harrisonburg/Rockingham
DESCRIPTION:Protect your identity and shred your documents for free at F&M Bank's Crossroads Branch\, 80 Cross Keys Road\, Harrisonburg\, VA. Bring by your old tax documents or other sensitive materials for safe disposal between 2:00-5:00pm.
X-ALT-DESC;FMTTYPE=text/html:<span style="color:rgb(48\, 53\, 56)\; font-family:montserrat\,sans-serif\; font-size:14px">Protect your identity and shred your documents for free at F&amp\;M Bank&#39\;s Crossroads Branch\, 80 Cross Keys Road\, Harrisonburg\, VA. Bring by your old tax documents or other sensitive materials for safe disposal between 2:00-5:00pm.</span>
LOCATION:F&M Bank's Crossroads Branch\, 80 Cross Keys Road\, Harrisonburg\, VA
UID:e.2338.10539
SEQUENCE:3
DTSTAMP:20260420T211231Z
URL:https://chamber.hrchamber.org/events/details/f-m-bank-shred-day-harrisonburg-rockingham-10539
END:VEVENT

END:VCALENDAR
