BEGIN:VCALENDAR
VERSION:2.0
PRODID:-//ChamberMaster//Event Calendar 2.0//EN
METHOD:PUBLISH
X-PUBLISHED-TTL:P3D
REFRESH-INTERVAL:P3D
CALSCALE:GREGORIAN
BEGIN:VEVENT
DTSTART:20160916T190000Z
DTEND:20160916T210000Z
X-MICROSOFT-CDO-ALLDAYEVENT:FALSE
SUMMARY:F&M Bank Port Road Shred Day
DESCRIPTION:Protect your identity and shred your personal documents for free at our community shred day!
X-ALT-DESC;FMTTYPE=text/html:Protect your identity and shred your personal documents for free at our community shred day!
LOCATION:1085 Port Republic Road Harrisonburg\, VA 22801
UID:e.2338.1495
SEQUENCE:3
DTSTAMP:20260421T232252Z
URL:https://chamber.hrchamber.org/events/details/f-m-bank-port-road-shred-day-1495
END:VEVENT

END:VCALENDAR
