BEGIN:VCALENDAR
VERSION:2.0
PRODID:-//ChamberMaster//Event Calendar 2.0//EN
METHOD:PUBLISH
X-PUBLISHED-TTL:P3D
REFRESH-INTERVAL:P3D
CALSCALE:GREGORIAN
BEGIN:VEVENT
DTSTART:20190531T190000Z
DTEND:20190531T210000Z
X-MICROSOFT-CDO-ALLDAYEVENT:FALSE
SUMMARY:F&M Bank Harrisonburg Shred Day
DESCRIPTION:Protect your identity and shred your documents for free at our Coffman's Corner community shred day!
X-ALT-DESC;FMTTYPE=text/html:Protect your identity and shred your documents for free at our Coffman&#39\;s Corner community shred day!
LOCATION:2030 Legacy Lane\, Harrisonburg
UID:e.2338.6599
SEQUENCE:3
DTSTAMP:20260419T224816Z
URL:https://chamber.hrchamber.org/events/details/f-m-bank-harrisonburg-shred-day-6599
END:VEVENT

END:VCALENDAR
