BEGIN:VCALENDAR
VERSION:2.0
PRODID:-//ChamberMaster//Event Calendar 2.0//EN
METHOD:PUBLISH
X-PUBLISHED-TTL:P3D
REFRESH-INTERVAL:P3D
CALSCALE:GREGORIAN
BEGIN:VEVENT
DTSTART:20170414T190000Z
DTEND:20170414T210000Z
X-MICROSOFT-CDO-ALLDAYEVENT:FALSE
SUMMARY:F&M Bank Grottoes Shred Day
DESCRIPTION:Protect your identity and shred your personal documents for free at our community shred day!
X-ALT-DESC;FMTTYPE=text/html:Protect your identity and shred your personal documents for free at our community shred day!
LOCATION:200 Augusta Avenue\, Grottoes\, VA 24441
UID:e.2338.1580
SEQUENCE:3
DTSTAMP:20260421T121240Z
URL:https://chamber.hrchamber.org/events/details/f-m-bank-grottoes-shred-day-1580
END:VEVENT

END:VCALENDAR
