BEGIN:VCALENDAR
VERSION:2.0
PRODID:-//ChamberMaster//Event Calendar 2.0//EN
METHOD:PUBLISH
X-PUBLISHED-TTL:P3D
REFRESH-INTERVAL:P3D
CALSCALE:GREGORIAN
BEGIN:VEVENT
DTSTART:20160520T190000Z
DTEND:20160520T210000Z
X-MICROSOFT-CDO-ALLDAYEVENT:FALSE
SUMMARY:F&M Bank Elkton Shred Day
DESCRIPTION:Protect your identity and dispose of your personal documents at our free shred day!
X-ALT-DESC;FMTTYPE=text/html:Protect your identity and dispose of your personal documents at our free shred day!
LOCATION:127 W Rockingham Street Elkton
UID:e.2338.398
SEQUENCE:3
DTSTAMP:20260422T045403Z
URL:https://chamber.hrchamber.org/events/details/f-m-bank-elkton-shred-day-05-20-2016-398
END:VEVENT

END:VCALENDAR
