BEGIN:VCALENDAR
VERSION:2.0
PRODID:-//ChamberMaster//Event Calendar 2.0//EN
METHOD:PUBLISH
X-PUBLISHED-TTL:P3D
REFRESH-INTERVAL:P3D
CALSCALE:GREGORIAN
BEGIN:VEVENT
DTSTART:20151204T133000Z
DTEND:20151204T220000Z
X-MICROSOFT-CDO-ALLDAYEVENT:FALSE
SUMMARY:F&M Bank Elkton Kid's Day
DESCRIPTION:Join us at the Elkton Branch for a day full of customer appreciation! Enjoy refreshments\, games and giveaways. Pictures with Santa will be available from 3-5 PM. Please\, bring your camera for photos.
X-ALT-DESC;FMTTYPE=text/html:Join us at the Elkton Branch for a day full of customer appreciation! Enjoy refreshments\, games and giveaways. Pictures with Santa will be available from 3-5 PM. Please\, bring your camera for photos.
LOCATION:F&M Bank Elkton
UID:e.2338.302
SEQUENCE:3
DTSTAMP:20260424T115054Z
URL:https://chamber.hrchamber.org/events/details/f-m-bank-elkton-kid-s-day-12-04-2015-302
END:VEVENT

END:VCALENDAR
