BEGIN:VCALENDAR
VERSION:2.0
PRODID:-//ChamberMaster//Event Calendar 2.0//EN
METHOD:PUBLISH
X-PUBLISHED-TTL:P3D
REFRESH-INTERVAL:P3D
CALSCALE:GREGORIAN
BEGIN:VEVENT
DTSTART:20161215T200000Z
DTEND:20161215T220000Z
X-MICROSOFT-CDO-ALLDAYEVENT:FALSE
SUMMARY:F&M Bank Elkton Family Fun Day
DESCRIPTION:Santa's elves are bringing the North Pole to Elkton! Meet the elves\, write a letter to Santa\, snap pictures in our photo booth\, play games\, enjoy refreshments and much more!
X-ALT-DESC;FMTTYPE=text/html:Santa&#39\;s elves are bringing the North Pole to Elkton! Meet the elves\, write a letter to Santa\, snap pictures in our photo booth\, play games\, enjoy refreshments and much more!
LOCATION:127 W Rockingham Street\, Elkton
UID:e.2338.1514
SEQUENCE:3
DTSTAMP:20260421T191306Z
URL:https://chamber.hrchamber.org/events/details/f-m-bank-elkton-family-fun-day-1514
END:VEVENT

END:VCALENDAR
