BEGIN:VCALENDAR
VERSION:2.0
PRODID:-//ChamberMaster//Event Calendar 2.0//EN
METHOD:PUBLISH
X-PUBLISHED-TTL:P3D
REFRESH-INTERVAL:P3D
CALSCALE:GREGORIAN
BEGIN:VEVENT
DTSTART:20181207T200000Z
DTEND:20181207T220000Z
X-MICROSOFT-CDO-ALLDAYEVENT:FALSE
SUMMARY:F&M Bank Crossroads Branch Kid's Day
DESCRIPTION:Join us for Kid's Day!  More details to come!
X-ALT-DESC;FMTTYPE=text/html:Join us for Kid&#39\;s Day!&nbsp\; More details to come!
LOCATION:F&M Bank Crossroads Branch 80 Cross Keys Road Harrisonburg\, VA 22801
UID:e.2338.5904
SEQUENCE:3
DTSTAMP:20260420T061738Z
URL:https://chamber.hrchamber.org/events/details/f-m-bank-crossroads-branch-kid-s-day-5904
END:VEVENT

END:VCALENDAR
